BEGIN:VCALENDAR
VERSION:2.0
PRODID:-//TBK Bank Sports Complex &amp; Entertainment - ECPv6.15.20//NONSGML v1.0//EN
CALSCALE:GREGORIAN
METHOD:PUBLISH
X-ORIGINAL-URL:https://www.tbkbanksportscomplex.com
X-WR-CALDESC:Events for TBK Bank Sports Complex &amp; Entertainment
REFRESH-INTERVAL;VALUE=DURATION:PT1H
X-Robots-Tag:noindex
X-PUBLISHED-TTL:PT1H
BEGIN:VTIMEZONE
TZID:America/Chicago
BEGIN:DAYLIGHT
TZOFFSETFROM:-0600
TZOFFSETTO:-0500
TZNAME:CDT
DTSTART:20230312T080000
END:DAYLIGHT
BEGIN:STANDARD
TZOFFSETFROM:-0500
TZOFFSETTO:-0600
TZNAME:CST
DTSTART:20231105T070000
END:STANDARD
BEGIN:DAYLIGHT
TZOFFSETFROM:-0600
TZOFFSETTO:-0500
TZNAME:CDT
DTSTART:20240310T080000
END:DAYLIGHT
BEGIN:STANDARD
TZOFFSETFROM:-0500
TZOFFSETTO:-0600
TZNAME:CST
DTSTART:20241103T070000
END:STANDARD
BEGIN:DAYLIGHT
TZOFFSETFROM:-0600
TZOFFSETTO:-0500
TZNAME:CDT
DTSTART:20250309T080000
END:DAYLIGHT
BEGIN:STANDARD
TZOFFSETFROM:-0500
TZOFFSETTO:-0600
TZNAME:CST
DTSTART:20251102T070000
END:STANDARD
END:VTIMEZONE
BEGIN:VEVENT
DTSTART;VALUE=DATE:20240311
DTEND;VALUE=DATE:20240316
DTSTAMP:20260421T062218
CREATED:20240117T181901Z
LAST-MODIFIED:20240117T181901Z
UID:10002183-1710115200-1710547199@www.tbkbanksportscomplex.com
SUMMARY:All Sports and Activities Spring Break Camp
DESCRIPTION:Come join us at the TBK Bank Sports Complex Kids Spring Break Camp\, where campers will have fun by participating in a variety of indoor & outdoor activities. This camp is for girls and boys ages 6-12 years old.  Our staff is looking forward to having your camper at our Spring Break camp. \nDates: \nMarch 11th to March 15th\, 2024 \n  \nWhat makes us unique? \nCampers can expect to participate in the following activities: indoor hockey\, basketball\, crafts\, volleyball\, soccer and arcade games and so much more! Each day at camp\, campers will have 4-6 set activities as well as built-in free time.  All of our staff has experience working with children and have done multiple actives that we offer before being hired at TBK Bank Sports Complex.
URL:https://www.tbkbanksportscomplex.com/event/all-sports-and-activities-spring-break-camp/
LOCATION:TBK Bank Sports Complex\, 4850 Competition Drive\, Bettendorf\, IA\, 52722\, United States
CATEGORIES:Camps
ATTACH;FMTTYPE=application/pdf:https://www.tbkbanksportscomplex.com/wp-content/uploads/2024/01/Spring-break-camp-2024-1.pdf
ORGANIZER;CN="TBK Bank Sports Complex":MAILTO:leagues@tbkbanksportscomplex.com
END:VEVENT
END:VCALENDAR