BEGIN:VCALENDAR
VERSION:2.0
PRODID:-//TBK Bank Sports Complex &amp; Entertainment - ECPv6.15.20//NONSGML v1.0//EN
CALSCALE:GREGORIAN
METHOD:PUBLISH
X-ORIGINAL-URL:https://www.tbkbanksportscomplex.com
X-WR-CALDESC:Events for TBK Bank Sports Complex &amp; Entertainment
REFRESH-INTERVAL;VALUE=DURATION:PT1H
X-Robots-Tag:noindex
X-PUBLISHED-TTL:PT1H
BEGIN:VTIMEZONE
TZID:America/Chicago
BEGIN:DAYLIGHT
TZOFFSETFROM:-0600
TZOFFSETTO:-0500
TZNAME:CDT
DTSTART:20230312T080000
END:DAYLIGHT
BEGIN:STANDARD
TZOFFSETFROM:-0500
TZOFFSETTO:-0600
TZNAME:CST
DTSTART:20231105T070000
END:STANDARD
BEGIN:DAYLIGHT
TZOFFSETFROM:-0600
TZOFFSETTO:-0500
TZNAME:CDT
DTSTART:20240310T080000
END:DAYLIGHT
BEGIN:STANDARD
TZOFFSETFROM:-0500
TZOFFSETTO:-0600
TZNAME:CST
DTSTART:20241103T070000
END:STANDARD
BEGIN:DAYLIGHT
TZOFFSETFROM:-0600
TZOFFSETTO:-0500
TZNAME:CDT
DTSTART:20250309T080000
END:DAYLIGHT
BEGIN:STANDARD
TZOFFSETFROM:-0500
TZOFFSETTO:-0600
TZNAME:CST
DTSTART:20251102T070000
END:STANDARD
END:VTIMEZONE
BEGIN:VEVENT
DTSTART;VALUE=DATE:20241027
DTEND;VALUE=DATE:20241104
DTSTAMP:20260420T174821
CREATED:20240930T222824Z
LAST-MODIFIED:20240930T222824Z
UID:10002276-1729987200-1730678399@www.tbkbanksportscomplex.com
SUMMARY:Platform Elite 2024-2025 Fall Tryouts
DESCRIPTION:10u-12u: Sunday\, October 27th: 5-7 PM (Check in at 4:30 PM) \n13u: Monday\, October 28th: 6-8 PM (Check in at 5:30 PM) \n14u: Wednesday\, October 30th: 6-8PM (Check in at 5:30 PM) \n15u: Sunday\, November 3rd: 9-11:30 AM (Check in at 8:30 AM) \n16u: Sunday\, November 3rd\, 2:30-5PM (Check in at 2:00 PM) \n17u-18u: Sunday\, November 3rd\, 2:30-5PM (Check in at 2:00 PM) \n  \n 
URL:https://www.tbkbanksportscomplex.com/event/platform-elite-2024-2025-fall-tryouts/
LOCATION:TBK Bank Sports Complex\, 4850 Competition Drive\, Bettendorf\, IA\, 52722\, United States
CATEGORIES:Volleyball
ATTACH;FMTTYPE=image/jpeg:https://www.tbkbanksportscomplex.com/wp-content/uploads/2024/09/Platform-Tryouts.jpeg
ORGANIZER;CN="Platform Elite Volleyball":MAILTO:info@platformelite.com
END:VEVENT
END:VCALENDAR