BEGIN:VCALENDAR
VERSION:2.0
PRODID:-//TBK Bank Sports Complex &amp; Entertainment - ECPv6.15.20//NONSGML v1.0//EN
CALSCALE:GREGORIAN
METHOD:PUBLISH
X-ORIGINAL-URL:https://www.tbkbanksportscomplex.com
X-WR-CALDESC:Events for TBK Bank Sports Complex &amp; Entertainment
REFRESH-INTERVAL;VALUE=DURATION:PT1H
X-Robots-Tag:noindex
X-PUBLISHED-TTL:PT1H
BEGIN:VTIMEZONE
TZID:America/Chicago
BEGIN:DAYLIGHT
TZOFFSETFROM:-0600
TZOFFSETTO:-0500
TZNAME:CDT
DTSTART:20240310T080000
END:DAYLIGHT
BEGIN:STANDARD
TZOFFSETFROM:-0500
TZOFFSETTO:-0600
TZNAME:CST
DTSTART:20241103T070000
END:STANDARD
BEGIN:DAYLIGHT
TZOFFSETFROM:-0600
TZOFFSETTO:-0500
TZNAME:CDT
DTSTART:20250309T080000
END:DAYLIGHT
BEGIN:STANDARD
TZOFFSETFROM:-0500
TZOFFSETTO:-0600
TZNAME:CST
DTSTART:20251102T070000
END:STANDARD
BEGIN:DAYLIGHT
TZOFFSETFROM:-0600
TZOFFSETTO:-0500
TZNAME:CDT
DTSTART:20260308T080000
END:DAYLIGHT
BEGIN:STANDARD
TZOFFSETFROM:-0500
TZOFFSETTO:-0600
TZNAME:CST
DTSTART:20261101T070000
END:STANDARD
END:VTIMEZONE
BEGIN:VEVENT
DTSTART;VALUE=DATE:20250404
DTEND;VALUE=DATE:20250407
DTSTAMP:20260420T170424
CREATED:20240916T184336Z
LAST-MODIFIED:20240916T184336Z
UID:10002268-1743724800-1743983999@www.tbkbanksportscomplex.com
SUMMARY:JPSports April Fools Indoor Classic
DESCRIPTION:The April Fools Indoor Classic will be a huge hit for the 2024-2025 Indoor season!  This event is a USSSA sanctioned for All Ages and is a State and World Series Qualifier. \nNEW FOR 2025 WE WILL HAVE 4 INDOOR FIELDS\, Which means an increased capacity. This event will sell out quickly make sure to register for this event today. \nTBK Bank Sports Complex:\nWith a total of 14 turf diamonds: 10 full synthetic turf fields with lights outdoors and 4 full synthetic turf fields indoors.  TBK Bank Sports Complex is also home to an indoor family entertainment center featuring a restaurant\, bar\, bowling\, arcades\, laser tag\, golf simulator\, and escape rooms all on-site.  TBK is a must-play facility for the 2025 season and is always rated as a top facility for youth softball year in and year out! \nPlease note:  These games may be played later in the evening.  Historically\, games have started around 11 pm for the older ages for each particular weekend. \nThis tournament will be governed by USSSA Rules and Rostering\, along with JP Sports.  \nYou MUST Register through USSSA AND JP Sports .   By registering for this tournament you agree and understand your team must be sanctioned and have your USSSA roster completed.  \nNO METAL SPIKES OR SUNFLOWER SEEDS AT TBK \nDate: 04/04/25-04/06/25\nGame Guarantee: 3 Games\nTournament Format: Each team will play 2 pool play games\, followed by bracket play.\nExpected Number of Teams: 40\nExpected Start Times: 5 PM Friday\nParking is FREE!\nTBK: 4850 Competition Drive\, Bettendorf\, Iowa 52722\nThe event is for the following ages:\n9u and 10u-46/65\n11u and 12u- 50/70\nCost:\n$625 \nHotels:\n*Teams traveling for this event MUST book their hotels through our housing partner\, Plex Travel.  This event is a Stay-to-Play event.  Once you have registered we recommend securing your hotel rooms right away.  The Plex Travel Hotel Link
URL:https://www.tbkbanksportscomplex.com/event/jpsports-april-fools-indoor-classic/
LOCATION:TBK Bank Sports Complex\, 4850 Competition Drive\, Bettendorf\, IA\, 52722\, United States
CATEGORIES:Baseball,Baseball Tournaments
ATTACH;FMTTYPE=image/png:https://www.tbkbanksportscomplex.com/wp-content/uploads/2024/09/AprilIndoorClassic.png
END:VEVENT
BEGIN:VEVENT
DTSTART;VALUE=DATE:20250404
DTEND;VALUE=DATE:20250407
DTSTAMP:20260420T170424
CREATED:20241026T191936Z
LAST-MODIFIED:20241026T191936Z
UID:10002284-1743724800-1743983999@www.tbkbanksportscomplex.com
SUMMARY:JP Sports Battle on the Turf
DESCRIPTION:The Battle of the Turf is back for the 2025 season. This will be a great way to get double the points on 100% turf fields\, almost guaranteeing your team gets games in!  This USSSA NIT is a State and World Series Qualifier\, that will earn your team NIT points!!!  Don’t miss your opportunity for an early season NIT on turf! \nTBK Bank Sports Complex:  \nWith a total of 14 turf diamonds:  10 full synthetic turf fields with lights outdoors and 4 full synthetic turf fields indoors.  TBK Bank Sports Complex is also home to an indoor family entertainment center featuring a restaurant\, bar\, bowling\, arcades\, laser tag\, golf simulator\, and escape rooms all on-site.  TBK is a must play facility for the 2024 season and is always rated as a top facility for youth baseball year in and year out! \nThis tournament will be governed by USSSA Rules and Rostering\, along with JP Sports.  \nYou MUST Register through USSSA AND JP Sports .   By registering for this tournament you agree and understand your team must be sanctioned and have your USSSA roster completed.  \nNO METAL SPIKES OR SUNFLOWER SEEDS AT TBK\nDate: 04/04/25-04/06/25\nGame Guarantee: 3 Games\nTournament Format: Each team will play 2 pool play games\, followed by bracket play.\nExpected Number of Teams: 50+\nExpected Start Times: Games will start Friday evening at 5pm\, if needed.\nParking is FREE!\nTBK: 4850 Competition Drive\, Bettendorf\, Iowa 52722\nThe event is for the following ages:\n9u (A/AA) – 46′ mound\, 65′ bases\n10u (A/AA) – 46′ mound\, 65′ bases\n11u (A/AA) – 50′ mound\, 70′ bases\n12u (A/AA) – 50′ mound\, 70′ bases\n13u (A/AA) – 54′ mound\, 80′ bases\n14u (A/AA) – 60′ mound\, 90′ bases \nCost:\n9u-14u – $625 \nHotels:\n*Teams traveling for this event MUST book their hotels through our housing partner\, Plex Travel.  This event is a Stay-to-Play event.  Once you have registered we recommend securing your hotel rooms right away.  The Plex Travel Hotel Link \nJP Sports reserves the right to combine classes/divisions as necessary. \nJP Sports also has the right to add additional fields as needed.
URL:https://www.tbkbanksportscomplex.com/event/jp-sports-battle-on-the-turf/
LOCATION:TBK Bank Sports Complex\, 4850 Competition Drive\, Bettendorf\, IA\, 52722\, United States
CATEGORIES:Baseball,Baseball Tournaments
ATTACH;FMTTYPE=image/png:https://www.tbkbanksportscomplex.com/wp-content/uploads/2024/01/battle-of-the-turf.png
END:VEVENT
BEGIN:VEVENT
DTSTART;VALUE=DATE:20250404
DTEND;VALUE=DATE:20250407
DTSTAMP:20260420T170424
CREATED:20241027T192217Z
LAST-MODIFIED:20241027T192243Z
UID:10002302-1743724800-1743983999@www.tbkbanksportscomplex.com
SUMMARY:JP Sports April Fastpitch Turf Blast
DESCRIPTION:The April Fast-pitch Turf Blast will be a huge hit for the 2025 Outdoor season!  This event is a USSSA sanctioned for All Ages and is a State and World Series Qualifier.  This event will sell out quickly. \nTBK Bank Sports Complex:  \nWith a total of 14 turf diamonds:  10 full synthetic turf fields with lights outdoors and 4 full synthetic turf fields indoors.  TBK Bank Sports Complex is also home to an indoor family entertainment center featuring a restaurant\, bar\, bowling\, arcades\, laser tag\, golf simulator\, and escape rooms all on-site.  TBK is a must play facility for the 2022 season and is always rated as a top facility for youth softball year in and year out! \nThis tournament will be governed by USSSA Rules and Rostering\, along with JP Sports.  \nYou MUST Register through USSSA AND JP Sports .   By registering for this tournament you agree and understand your team must be sanctioned and have your USSSA roster completed.  \nDate: 04/04/25-04/06/25\nGame Guarantee: 4 Games\nTournament Format: Each team will play 4 games.\nExpected Number of Teams: 40+\nExpected Start Times: Friday night if needed.\nThe event is for the following ages:\n10u- 35/60\n12u- 40/60\n14u-18u- 43/60 \nCost:\n8u-$325\n10u-14u – $500 \nHotels:\n*Teams traveling for this event MUST book their hotels through our housing partner\, Plex Travel.  This event is a Stay-to-Play event.  Once you have registered we recommend securing your hotel rooms right away.  The Plex Travel Hotel Link
URL:https://www.tbkbanksportscomplex.com/event/jp-sports-april-fastpitch-blast/
LOCATION:TBK Bank Sports Complex\, 4850 Competition Drive\, Bettendorf\, IA\, 52722\, United States
CATEGORIES:Softball,Softball Tournaments
ATTACH;FMTTYPE=image/png:https://www.tbkbanksportscomplex.com/wp-content/uploads/2024/10/April-Fastpitch-Turf-Blast.png
END:VEVENT
BEGIN:VEVENT
DTSTART;VALUE=DATE:20250404
DTEND;VALUE=DATE:20250407
DTSTAMP:20260420T170424
CREATED:20250222T164418Z
LAST-MODIFIED:20250222T164418Z
UID:10002328-1743724800-1743983999@www.tbkbanksportscomplex.com
SUMMARY:April Fools Festival
DESCRIPTION:Academy 8U-10U Festival (3 game guarantee)\n11U/12U Group Play/Champions Format (3 game guarantee)\n13U-19U Group Play/Champions Format (3 game guarantee) \n​8U $4009U/10U $60011U/12U $69513U-19U $775 \n​Friday night games may be scheduled for teams within 2 hours of complex \n​Age Divisions and Eligibility: \n• 8U Born on or after 1/1/2017• 9U Born on or after 1/1/2016• 10U Born on or after 1/1/2015• 11U Born on or after 1/1/2014• 12U Born on or after 1/1/2013• 13U Born on or after 1/1/2012• 14U Born on or after 1/1/2011• 15U Born on or after 1/1/2010• 16U Born on or after 1/1/2009• 17U Born on or after 1/1/2008• 18U Born on or after 1/1/2007• 19U Born on or after 1/1/2006 \n​Hotel Reservations \n​We have partnered with The Travel Plex hotel group to provide affordable hotel blocks at numerous local hotels within a few miles of The TBK Bank Sports Complex. \nPlease click on the link below for hotel options. \nCOMING SOON \n​Deadline March 10
URL:https://www.tbkbanksportscomplex.com/event/april-fools-festival/
LOCATION:TBK Bank Sports Complex\, 4850 Competition Drive\, Bettendorf\, IA\, 52722\, United States
CATEGORIES:Soccer,Soccer Tournaments
ATTACH;FMTTYPE=image/jpeg:https://www.tbkbanksportscomplex.com/wp-content/uploads/2025/02/April-fools-festival-logo.jpg
ORGANIZER;CN="PLD Sports":MAILTO:info@pldsports.org
END:VEVENT
BEGIN:VEVENT
DTSTART;VALUE=DATE:20250405
DTEND;VALUE=DATE:20250407
DTSTAMP:20260420T170424
CREATED:20240917T195121Z
LAST-MODIFIED:20240917T195121Z
UID:10002275-1743811200-1743983999@www.tbkbanksportscomplex.com
SUMMARY:Battle of The Ballers Quad Cities
DESCRIPTION:The Big Time Balling Battle Of The Ballers Quad Cities will be a two-day Quad Cities Area Basketball Tournament in Bettendorf\, IA. Boys & Girls travel\, local and regional teams are welcome to attend. \nThe skill level of the event is A\, B\, and C. All teams will play at least 3 games\, awards to 1st and 2nd place finishers. All games are UNDER ONE ROOF! Big Time Balling is ready for your team. \nQualifier for Big Time Balling National Championships  \nHighlights of this Quad Cities Basketball Tournament: \n1. Pool to Bracket Play\n2. Trainer on Premises\n3. Clock managed by Big Time Balling\n4. Top teams from IA\, IL\, IN\, WI\, MO and MN\n5. All teams make Playoffs (except 4 pool divisions – Top 2 finishers)\n6. Free Event App\n7. Awards to Top Finishers\n8. Multi-Team Discounts\n9. Trainer & Uniformed Officer\n10. All games under one roof!\nRegular Price – $250\nOrganizations that register 2 or more teams will receive a multi-team discount.
URL:https://www.tbkbanksportscomplex.com/event/battle-of-the-ballers-quad-cities-2/
LOCATION:TBK Bank Sports Complex\, 4850 Competition Drive\, Bettendorf\, IA\, 52722\, United States
CATEGORIES:Basketball,Basketball Tournaments
ATTACH;FMTTYPE=image/png:https://www.tbkbanksportscomplex.com/wp-content/uploads/2024/09/Big-Time-Balling.png
ORGANIZER;CN="Big Time Balling":MAILTO:info@bigtimeballing.net
END:VEVENT
END:VCALENDAR