BEGIN:VCALENDAR
VERSION:2.0
PRODID:-//TBK Bank Sports Complex &amp; Entertainment - ECPv6.15.20//NONSGML v1.0//EN
CALSCALE:GREGORIAN
METHOD:PUBLISH
X-WR-CALNAME:TBK Bank Sports Complex &amp; Entertainment
X-ORIGINAL-URL:https://www.tbkbanksportscomplex.com
X-WR-CALDESC:Events for TBK Bank Sports Complex &amp; Entertainment
REFRESH-INTERVAL;VALUE=DURATION:PT1H
X-Robots-Tag:noindex
X-PUBLISHED-TTL:PT1H
BEGIN:VTIMEZONE
TZID:America/Chicago
BEGIN:DAYLIGHT
TZOFFSETFROM:-0600
TZOFFSETTO:-0500
TZNAME:CDT
DTSTART:20250309T080000
END:DAYLIGHT
BEGIN:STANDARD
TZOFFSETFROM:-0500
TZOFFSETTO:-0600
TZNAME:CST
DTSTART:20251102T070000
END:STANDARD
BEGIN:DAYLIGHT
TZOFFSETFROM:-0600
TZOFFSETTO:-0500
TZNAME:CDT
DTSTART:20260308T080000
END:DAYLIGHT
BEGIN:STANDARD
TZOFFSETFROM:-0500
TZOFFSETTO:-0600
TZNAME:CST
DTSTART:20261101T070000
END:STANDARD
BEGIN:DAYLIGHT
TZOFFSETFROM:-0600
TZOFFSETTO:-0500
TZNAME:CDT
DTSTART:20270314T080000
END:DAYLIGHT
BEGIN:STANDARD
TZOFFSETFROM:-0500
TZOFFSETTO:-0600
TZNAME:CST
DTSTART:20271107T070000
END:STANDARD
END:VTIMEZONE
BEGIN:VEVENT
DTSTART;VALUE=DATE:20261114
DTEND;VALUE=DATE:20261116
DTSTAMP:20260420T061925
CREATED:20260414T155203Z
LAST-MODIFIED:20260414T155203Z
UID:10002401-1794614400-1794787199@www.tbkbanksportscomplex.com
SUMMARY:Tournament Guru: Midwest November Cup & College Showcase
DESCRIPTION:MIDWEST NOVEMBER CUP & COLLEGE SHOWCASE \nSOLD OUT!!! \nWAITING LIST ONLY \nDates: November 14-16\, 2025Age Groups: Boys & Girls U9-U19 \nTuition: 7v7 = $645\, 9v9 = $745\, 11v11 = $845  \nLocation: TBK Bank Sports ComplexBettendorf\, Iowa \nFormat: 3 Game GuaranteeRegistration Deadline: October 16thEarly Registration Discount Deadline: August 30th  \nThis event is expected to once again host our maximum capacity of 150 teams from multiple states and 20+ College Coaches from around the region\, across all divisions. The event will offer Gold\, Silver\, and Bronze level competition at most age groups.  This USYS sanctioned event will be run using the GotSport registration and scheduling software. \nAll teams are guaranteed 3 group stage games. 1st and 2nd place teams will advance to a championship final in U15 and younger age groups.  Given the ‘showcase’ nature of the event\, U16-U19 teams will play in a 3 game showcase format.  \nTBK Bank Sports Complex is one of the marquee youth sports facilities in the country.  The 75 acre complex has the best fields and off the field fun you can find\, all without leaving the park.  \n​ \n10 lighted turf baseball fields which convert into 4\, Full Size and 2\, 9v9 Soccer Fields 2\, Full Size Turf Soccer Fields2\, Full Size Grass Soccer Fields1\, Indoor Full Size Turf Soccer FieldAdditional Amenities: \n32 Lane Brunswick Bowling AlleyVideo Game Arcade \nLaser Tag ArenaEscape Rooms \nRestaurant \nSports Bar \n\nThis event is open to all competitive BOYS AND GIRLS teams with current USYS or US Club certification.  USSSA and AYSO competitive teams are also eligible with additional documentation required.  \n U8-U10 will play 7v7\, U11-U12 will play 9v9\, and U13+ will play 11v11.  Gold\, Silver\, and Bronze divisions will be offered depending on availability and demand.  All teams will play a 3 match schedule\, with championship final for 1st and 2nd place teams at U15 and younger.  U16 and older will play 3 game format with no finals.   \n7v7 = 25 minute halves \n9v9 = 30 minute halvesU13-15 = 30 minute halves \nU16-19= 35 minute halves \n\n\nIMPORTANT DATES\n\n\nEarly Registration Discount Deadline: August 30thApplication Deadline: October 16th \nApplication Fee Paid By: October 17th \nAccepted Teams Notified: October 17th \nBrackets Posted: October 18th \nSchedule Posted: October 23rdCheck In / Roster Documents Due: November 4th (adjustments can be made until November 7th) \n\n\nPAYMENTS\n\n\nApplication Fee Paid By: October 17thOnline credit card payments can be made through the Gotsport softwareChecks: Made payable to Tournament Guru LLC.Mailed to: \nTournament Guru LLC2251 Bates RoadO’Fallon\, Mo. 63368 \nBe sure to include team name and event date on the memo line.All teams\, regardless of payment method are also required to submit the $20 Gotsport Software fee\, in addition to the listed tournament fees.  Teams paying by Credit Card through the Gotsport system or PayPal will also incur a 3% processing fee. \n\n\nCONTACT INFO\n\n\nTournament Director: Franco CarotenutoEmail: Director@tournamentgurus.comFacility Director: Diedrah Kennedy  \nReferee Assignor: Alec ClarkEmail:  \n\n\nWEATHER POLICIES\n\n\nAs with any outdoor sporting event\, weather is always an item of great concern. Our weather guidelines are aligned with those suggested/used by USSF and ISA. All games will be played on synthetic turf\, and high quality grass fields which allows us to play even through heavy rain.  However\, game stoppage can occur due to hazardous conditions such as lightning or temperature levels. Weather updates / adjustments will be sent via email/text messages through your GotSoccer account. \nAdjustments made to games due to weather are at the discretion of the tournament committee (comprised of Tournament Director\, Event Executive Staff\, and Young Athlete Center’s ATC staff). It is our intention to provide a fun\, playable\, safe environment for all teams participating to get the competition they have come in search of.• Games could be delayed or shortened. • Games played until/beyond halftime can be considered final at the moment stopped if necessary.Should temperatures exceed 93 degrees Fahrenheit\, matches may be halted or shortened in accordance with USSF guidelines.  All matches will have a mandatory water break during each period of play.  The water break will be 3 minutes long and the match clock will run during the break. • U14 and younger divisions\, adjustments/cancellations will be made when expected game time temperature is 18 degrees cold index with windchill or 106 degrees heat index. For games played in U15 and older divisions\, adjustments/cancellations will be made when expected game time temperature is 14 degrees cold index with windchill or 106 degrees heat index.• Any additional changes to the schedule deemed necessary by the Tournament Committee will be exercised with as much notice as possible for all teams involved.
URL:https://www.tbkbanksportscomplex.com/event/tournament-guru-midwest-november-cup-college-showcase/
LOCATION:TBK Bank Sports Complex\, 4850 Competition Drive\, Bettendorf\, IA\, 52722\, United States
CATEGORIES:Soccer,Soccer Tournaments,Tournaments
ATTACH;FMTTYPE=image/png:https://www.tbkbanksportscomplex.com/wp-content/uploads/2026/04/Screenshot-2026-04-14-105133.png
END:VEVENT
END:VCALENDAR