BEGIN:VCALENDAR
VERSION:2.0
PRODID:-//TBK Bank Sports Complex &amp; Entertainment - ECPv6.15.20//NONSGML v1.0//EN
CALSCALE:GREGORIAN
METHOD:PUBLISH
X-ORIGINAL-URL:https://www.tbkbanksportscomplex.com
X-WR-CALDESC:Events for TBK Bank Sports Complex &amp; Entertainment
REFRESH-INTERVAL;VALUE=DURATION:PT1H
X-Robots-Tag:noindex
X-PUBLISHED-TTL:PT1H
BEGIN:VTIMEZONE
TZID:America/Chicago
BEGIN:DAYLIGHT
TZOFFSETFROM:-0600
TZOFFSETTO:-0500
TZNAME:CDT
DTSTART:20230312T080000
END:DAYLIGHT
BEGIN:STANDARD
TZOFFSETFROM:-0500
TZOFFSETTO:-0600
TZNAME:CST
DTSTART:20231105T070000
END:STANDARD
BEGIN:DAYLIGHT
TZOFFSETFROM:-0600
TZOFFSETTO:-0500
TZNAME:CDT
DTSTART:20240310T080000
END:DAYLIGHT
BEGIN:STANDARD
TZOFFSETFROM:-0500
TZOFFSETTO:-0600
TZNAME:CST
DTSTART:20241103T070000
END:STANDARD
BEGIN:DAYLIGHT
TZOFFSETFROM:-0600
TZOFFSETTO:-0500
TZNAME:CDT
DTSTART:20250309T080000
END:DAYLIGHT
BEGIN:STANDARD
TZOFFSETFROM:-0500
TZOFFSETTO:-0600
TZNAME:CST
DTSTART:20251102T070000
END:STANDARD
END:VTIMEZONE
BEGIN:VEVENT
DTSTART;VALUE=DATE:20240309
DTEND;VALUE=DATE:20240311
DTSTAMP:20260421T115522
CREATED:20240117T201659Z
LAST-MODIFIED:20240117T204217Z
UID:10002186-1709942400-1710115199@www.tbkbanksportscomplex.com
SUMMARY:Queen of Quad City
DESCRIPTION:Queen of Quad City is back again in 2023 at the state-of-the-art TBK Bank Sports Complex on March 9-10. \nThis beautiful facility hosts 12 courts and can accommodate 96 teams under one roof. Located on 77-acres the facility includes outdoor turf fields for baseball and soccer\, food and beverage concessions\, and sand volleyball courts. Inside the facility you will find additional turf fields\, basketball and volleyball courts\, a bar and restaurant\, and a full-service 2-story family entertainment center. \nThis event is open to USAV\, AAU\, and JVA teams.   \n\n\n\nDate: March 9-10\, 2024\n\n\n\n\n\nCost: $395 / team\n\n\n\n\nDivisions: Girls 12-18\n\n\n\n\nTBK Bank Sports Complex: 4850 Competition Drive\, Bettendorf\, IA 52722\n\n\n\n\nSpectator Tickets :$20 Weekend Pass\, or $12 Day Pass (Kids 10 and under are FREE)\n\n\n\n\n\nParking: FREE parking available on site
URL:https://www.tbkbanksportscomplex.com/event/queen-of-quad-city/
LOCATION:TBK Bank Sports Complex\, 4850 Competition Drive\, Bettendorf\, IA\, 52722\, United States
CATEGORIES:Volleyball,Volleyball Tournaments
ATTACH;FMTTYPE=image/webp:https://www.tbkbanksportscomplex.com/wp-content/uploads/2024/01/Queen-of-Quad-City.webp
ORGANIZER;CN="Level 12 Sports":MAILTO:tristan@level12sports.com
END:VEVENT
END:VCALENDAR