BEGIN:VCALENDAR
VERSION:2.0
PRODID:-//TBK Bank Sports Complex &amp; Entertainment - ECPv6.15.20//NONSGML v1.0//EN
CALSCALE:GREGORIAN
METHOD:PUBLISH
X-WR-CALNAME:TBK Bank Sports Complex &amp; Entertainment
X-ORIGINAL-URL:https://www.tbkbanksportscomplex.com
X-WR-CALDESC:Events for TBK Bank Sports Complex &amp; Entertainment
REFRESH-INTERVAL;VALUE=DURATION:PT1H
X-Robots-Tag:noindex
X-PUBLISHED-TTL:PT1H
BEGIN:VTIMEZONE
TZID:America/Chicago
BEGIN:DAYLIGHT
TZOFFSETFROM:-0600
TZOFFSETTO:-0500
TZNAME:CDT
DTSTART:20230312T080000
END:DAYLIGHT
BEGIN:STANDARD
TZOFFSETFROM:-0500
TZOFFSETTO:-0600
TZNAME:CST
DTSTART:20231105T070000
END:STANDARD
BEGIN:DAYLIGHT
TZOFFSETFROM:-0600
TZOFFSETTO:-0500
TZNAME:CDT
DTSTART:20240310T080000
END:DAYLIGHT
BEGIN:STANDARD
TZOFFSETFROM:-0500
TZOFFSETTO:-0600
TZNAME:CST
DTSTART:20241103T070000
END:STANDARD
BEGIN:DAYLIGHT
TZOFFSETFROM:-0600
TZOFFSETTO:-0500
TZNAME:CDT
DTSTART:20250309T080000
END:DAYLIGHT
BEGIN:STANDARD
TZOFFSETFROM:-0500
TZOFFSETTO:-0600
TZNAME:CST
DTSTART:20251102T070000
END:STANDARD
END:VTIMEZONE
BEGIN:VEVENT
DTSTART;VALUE=DATE:20240531
DTEND;VALUE=DATE:20240603
DTSTAMP:20260421T000610
CREATED:20240131T223206Z
LAST-MODIFIED:20240131T223206Z
UID:10002212-1717113600-1717372799@www.tbkbanksportscomplex.com
SUMMARY:Quad City Summer Slugfest
DESCRIPTION:WHEN\nMay 31 – Jun 02\n\n\nWHERE\nTBK Bank Sports Complex – IA\n\n\n\n\nDIVISION \n9u USSSA – AA\n9u USSSA – AAA\n9u USSSA – Major\n10u USSSA – AA\n10u USSSA – AAA\n10u USSSA – Major\n11u USSSA – AA\n11u USSSA – AAA\n11u USSSA – Major\n12u USSSA – AA\n12u USSSA – AAA\n12u USSSA – Major\n13u USSSA – AA\n13u USSSA – AAA\n13u USSSA – Major\n14u USSSA – AA\n14u USSSA – AAA\n14u USSSA – Major\n15u USSSA – Open\n16u USSSA – Open \n\n\n\nCOST \n$ 620\n$ 620\n$ 620\n$ 620\n$ 620\n$ 620\n$ 620\n$ 620\n$ 620\n$ 620\n$ 620\n$ 620\n$ 620\n$ 620\n$ 620\n$ 620\n$ 620\n$ 620\n$ 750\n$ 750
URL:https://www.tbkbanksportscomplex.com/event/quad-city-summer-slugfest-2/
LOCATION:TBK Bank Sports Complex\, 4850 Competition Drive\, Bettendorf\, IA\, 52722\, United States
CATEGORIES:Baseball,Baseball Tournaments
ATTACH;FMTTYPE=image/png:https://www.tbkbanksportscomplex.com/wp-content/uploads/2024/01/QC-Summer-Slugfest.png
END:VEVENT
BEGIN:VEVENT
DTSTART;VALUE=DATE:20240601
DTEND;VALUE=DATE:20240603
DTSTAMP:20260421T000610
CREATED:20240130T225955Z
LAST-MODIFIED:20240130T225955Z
UID:10002192-1717200000-1717372799@www.tbkbanksportscomplex.com
SUMMARY:Challenge of Champions
DESCRIPTION:JUNE 1-2\, 2024\nDivisions: Open to boys and girls\, grades 3rd-12th. \nLocation: TBK Bank Sports Complex \nDetails: \n\nTwo-Day Tournament.\nMinimum 3 Game Guarantee\nBracket-play tournament style to name a divisional champ\nChampionship award/shirt to each divisional champ\nSocial media highlights and shoutouts on gametimetourneys social media accounts\nTourney Machine for Scheduling\n$250/ team\nMulti-team discounts are available for 3+ teams! Contact director@gametimetourneys.com\n\nQuestions: director@gametimetourneys.com
URL:https://www.tbkbanksportscomplex.com/event/challenge-of-champions-2/
LOCATION:TBK Bank Sports Complex\, 4850 Competition Drive\, Bettendorf\, IA\, 52722\, United States
CATEGORIES:Basketball,Basketball Tournaments
ATTACH;FMTTYPE=image/png:https://www.tbkbanksportscomplex.com/wp-content/uploads/2024/01/ChallngeFoamPoster.png
ORGANIZER;CN="Iowa Swarm":MAILTO:kasey@swarm-basketball.com
END:VEVENT
BEGIN:VEVENT
DTSTART;VALUE=DATE:20240603
DTEND;VALUE=DATE:20240817
DTSTAMP:20260421T000610
CREATED:20240208T170528Z
LAST-MODIFIED:20240521T211934Z
UID:10002223-1717372800-1723852799@www.tbkbanksportscomplex.com
SUMMARY:All Sports and Activities Summer Break Camp
DESCRIPTION:Come join us at the TBK Bank Sports Complex Kids Summer Break Camp\, where campers will have fun by participating in a variety of indoor & outdoor activities. This camp is for girls and boys ages 6-12 years old.  Our staff is looking forward to having your camper at our Summer Break camp. \nDates: \nJune 3rd to August 16th\, 2024 \n(No camp the week of July 4th) \nWeek 1 – June 3rd-7th \nWeek 2- June 10th-14th \nWeek 3- June 17th-21st \nWeek 4- June 24th- 28th \nWeek 5- July 8th-12th \nWeek 6- July 15th-19th \nWeek 7- July 22nd-26th \nWeek 8- July 29th- August 2nd \nWeek 9- August 5th-9th \nWeek 10- August 12th-16th \nWhat makes us unique? \nCampers can expect to participate in the following activities: indoor hockey\, basketball\, crafts\, volleyball\, soccer and arcade games and so much more! Each day at camp\, campers will have 4-6 set activities as well as built-in free time.  All of our staff has experience working with children and have done multiple actives that we offer before being hired at TBK Bank Sports Complex. \n  \nSign Up Today!! \n 
URL:https://www.tbkbanksportscomplex.com/event/https-www-tbkbanksportscomplex-com-sports-complex-youth-sports-training-camps/
LOCATION:TBK Bank Sports Complex\, 4850 Competition Drive\, Bettendorf\, IA\, 52722\, United States
CATEGORIES:Camps
ATTACH;FMTTYPE=image/jpeg:https://www.tbkbanksportscomplex.com/wp-content/uploads/2024/02/TBK-Bank-Sports-Complex-Flyers-4.jpg
ORGANIZER;CN="TBK Bank Sports Complex":MAILTO:leagues@tbkbanksportscomplex.com
END:VEVENT
BEGIN:VEVENT
DTSTART;VALUE=DATE:20240607
DTEND;VALUE=DATE:20240610
DTSTAMP:20260421T000610
CREATED:20240131T223849Z
LAST-MODIFIED:20240131T223856Z
UID:10002213-1717718400-1717977599@www.tbkbanksportscomplex.com
SUMMARY:Summer Turf Frenzy
DESCRIPTION:WHEN\nJun 07 – Jun 09\n\n\nWHERE\nTBK Bank Sports Complex – IA\n\n\n\n\n\nDIVISION \n8u KP USSSA – Open\n9u USSSA – AA\n9u USSSA – AAA\n9u USSSA – Major\n10u USSSA – AA\n10u USSSA – AAA\n10u USSSA – Major\n11u USSSA – AA\n11u USSSA – AAA\n11u USSSA – Major\n12u USSSA – AA\n12u USSSA – AAA\n12u USSSA – Major\n13u USSSA – AA\n13u USSSA – AAA\n13u USSSA – Major\n14u USSSA – AA\n14u USSSA – AAA\n14u USSSA – Major\n15u USSSA – Open\n16u USSSA – Open \n\n\n\n\nCOST \n$ 550\n$ 620\n$ 620\n$ 620\n$ 620\n$ 620\n$ 620\n$ 620\n$ 620\n$ 620\n$ 620\n$ 620\n$ 620\n$ 620\n$ 620\n$ 620\n$ 620\n$ 620\n$ 620\n$ 750\n$ 750
URL:https://www.tbkbanksportscomplex.com/event/summer-turf-frenzy-2/
LOCATION:TBK Bank Sports Complex\, 4850 Competition Drive\, Bettendorf\, IA\, 52722\, United States
CATEGORIES:Baseball,Baseball Tournaments
ATTACH;FMTTYPE=image/png:https://www.tbkbanksportscomplex.com/wp-content/uploads/2024/01/summer-turf-frenzy.png
END:VEVENT
BEGIN:VEVENT
DTSTART;VALUE=DATE:20240608
DTEND;VALUE=DATE:20240613
DTSTAMP:20260421T000610
CREATED:20240124T205743Z
LAST-MODIFIED:20240124T205743Z
UID:10002189-1717804800-1718236799@www.tbkbanksportscomplex.com
SUMMARY:Offense-Defense Football Camp
DESCRIPTION:Offense-Defense has been helping youth and high school athletes achieve their dreams for over 5 decades. We put more players in College and the NFL than any other football showcases or training organizations in United States. Showcase Locations are available nationwide\, with commuter and overnight options\, as well as non-contact and full-contact curriculum. Our football showcases and player development clinics use a progressive curriculum that has been developed for all levels of play by our NFL and College coaching staff. Whether it’s your first time playing football or you’re a top recruiting prospect\, we’ve got a program that will improve your game.
URL:https://www.tbkbanksportscomplex.com/event/offense-defense-football-camp/
LOCATION:TBK Bank Sports Complex\, 4850 Competition Drive\, Bettendorf\, IA\, 52722\, United States
CATEGORIES:Camps,Football
ATTACH;FMTTYPE=image/jpeg:https://www.tbkbanksportscomplex.com/wp-content/uploads/2024/01/Offense-Defense.jpg
ORGANIZER;CN="Offense-Defense":MAILTO:cpowell_5@msn.com
END:VEVENT
BEGIN:VEVENT
DTSTART;VALUE=DATE:20240614
DTEND;VALUE=DATE:20240617
DTSTAMP:20260421T000610
CREATED:20240131T224404Z
LAST-MODIFIED:20240131T224404Z
UID:10002214-1718323200-1718582399@www.tbkbanksportscomplex.com
SUMMARY:Primetime Turf Classic (A/AA Only)
DESCRIPTION:WHEN\nJun 14 – Jun 16\n\n\nWHERE\nTBK Bank Sports Complex – IA\n\n\n\n\nDIVISION \n9u USSSA – A\n9u USSSA – AA\n10u USSSA – A\n10u USSSA – AA\n11u USSSA – A\n11u USSSA – AA\n12u USSSA – A\n12u USSSA – AA\n13u USSSA – A\n13u USSSA – AA\n14u USSSA – A\n14u USSSA – AA \n\n\n\nCOST \n$ 620\n$ 620\n$ 620\n$ 620\n$ 620\n$ 620\n$ 620\n$ 620\n$ 620\n$ 620\n$ 620\n$ 620
URL:https://www.tbkbanksportscomplex.com/event/primetime-turf-classic-a-aa-only-2/
LOCATION:TBK Bank Sports Complex\, 4850 Competition Drive\, Bettendorf\, IA\, 52722\, United States
CATEGORIES:Baseball,Baseball Tournaments
ATTACH;FMTTYPE=image/png:https://www.tbkbanksportscomplex.com/wp-content/uploads/2024/01/Primtime-turf-classic.png
END:VEVENT
BEGIN:VEVENT
DTSTART;VALUE=DATE:20240615
DTEND;VALUE=DATE:20240617
DTSTAMP:20260421T000610
CREATED:20240130T231045Z
LAST-MODIFIED:20240130T232014Z
UID:10002193-1718409600-1718582399@www.tbkbanksportscomplex.com
SUMMARY:Hardwood Hustle
DESCRIPTION:JUNE 15-16\, 2024\nDivisions: Open to boys and girls\, grades 3rd-12th. \nLocation: TBK BANK SPORTS COMPLEX \nDetails: \n\nTwo-Day Tournament.\nMinimum 3 Game Guarantee\nBracket-play tournament style to name a divisional champ\nChampionship award/shirt to each divisional champ\nSocial media highlights and shoutouts on gametimetourneys social media accounts\nStaff photographer\nTourney Machine for Scheduling\n$250/ team\n\nQuestions: director@gametimetourneys.com
URL:https://www.tbkbanksportscomplex.com/event/hardwood-hustle/
LOCATION:TBK Bank Sports Complex\, 4850 Competition Drive\, Bettendorf\, IA\, 52722\, United States
CATEGORIES:Basketball,Basketball Tournaments
ATTACH;FMTTYPE=image/png:https://www.tbkbanksportscomplex.com/wp-content/uploads/2024/01/HardwoodHustle.png
ORGANIZER;CN="Iowa Swarm":MAILTO:kasey@swarm-basketball.com
END:VEVENT
BEGIN:VEVENT
DTSTART;VALUE=DATE:20240621
DTEND;VALUE=DATE:20240624
DTSTAMP:20260421T000610
CREATED:20240131T224644Z
LAST-MODIFIED:20240131T224644Z
UID:10002215-1718928000-1719187199@www.tbkbanksportscomplex.com
SUMMARY:Summer Turf Shootout
DESCRIPTION:WHEN\nJun 21 – Jun 23\n\n\nWHERE\nTBK Bank Sports Complex – IA\n\n\n\n\nDIVISION \n9u USSSA – AA\n9u USSSA – AAA\n9u USSSA – Major\n10u USSSA – AA\n10u USSSA – AAA\n10u USSSA – Major\n11u USSSA – AA\n11u USSSA – AAA\n11u USSSA – Major\n12u USSSA – AA\n12u USSSA – AAA\n12u USSSA – Major\n13u USSSA – AA\n13u USSSA – AAA\n13u USSSA – Major\n14u USSSA – AA\n14u USSSA – AAA\n14u USSSA – Major\n15u Open\n16u Open \n\n\n\nCOST \n$ 620\n$ 620\n$ 620\n$ 620\n$ 620\n$ 620\n$ 620\n$ 620\n$ 620\n$ 620\n$ 620\n$ 620\n$ 620\n$ 620\n$ 620\n$ 620\n$ 620\n$ 620\n$ 750\n$ 750
URL:https://www.tbkbanksportscomplex.com/event/summer-turf-shootout-2/
LOCATION:TBK Bank Sports Complex\, 4850 Competition Drive\, Bettendorf\, IA\, 52722\, United States
CATEGORIES:Baseball,Baseball Tournaments
ATTACH;FMTTYPE=image/png:https://www.tbkbanksportscomplex.com/wp-content/uploads/2024/01/summer-turf-shootout.png
END:VEVENT
BEGIN:VEVENT
DTSTART;VALUE=DATE:20240628
DTEND;VALUE=DATE:20240701
DTSTAMP:20260421T000610
CREATED:20240131T224900Z
LAST-MODIFIED:20240131T224900Z
UID:10002216-1719532800-1719791999@www.tbkbanksportscomplex.com
SUMMARY:Firecracker Frenzy
DESCRIPTION:WHEN\nJun 28 – Jun 30\n\n\nWHERE\nTBK Bank Sports Complex – IA\n\n\n\n\nDIVISION \n8u KP USSSA – Open\n9u USSSA – AA\n9u USSSA – AAA\n9u USSSA – Major\n10u USSSA – AA\n10u USSSA – AAA\n10u USSSA – Major\n11u USSSA – AA\n11u USSSA – AAA\n11u USSSA – Major\n12u USSSA – AA\n12u USSSA – AAA\n12u USSSA – Major\n13u USSSA – AA\n13u USSSA – AAA\n13u USSSA – Major\n14u USSSA – AA\n14u USSSA – AAA\n14u USSSA – Major\n15/16U Open \n\n\n\nCOST \n$ 595\n$ 620\n$ 620\n$ 620\n$ 620\n$ 620\n$ 620\n$ 620\n$ 620\n$ 620\n$ 620\n$ 620\n$ 620\n$ 620\n$ 620\n$ 620\n$ 620\n$ 620\n$ 620\n$ 750
URL:https://www.tbkbanksportscomplex.com/event/firecracker-frenzy-2/
LOCATION:TBK Bank Sports Complex\, 4850 Competition Drive\, Bettendorf\, IA\, 52722\, United States
CATEGORIES:Baseball,Baseball Tournaments
ATTACH;FMTTYPE=image/png:https://www.tbkbanksportscomplex.com/wp-content/uploads/2024/01/Firecracker-Frenzy.png
END:VEVENT
BEGIN:VEVENT
DTSTART;VALUE=DATE:20240629
DTEND;VALUE=DATE:20240701
DTSTAMP:20260421T000610
CREATED:20240117T195613Z
LAST-MODIFIED:20240117T195613Z
UID:10002184-1719619200-1719791999@www.tbkbanksportscomplex.com
SUMMARY:Battle of the Ballers Quad Cities
DESCRIPTION:The Big Time Balling Battle Of The Ballers Quad Cities will be a two-day Quad Cities Area Basketball Tournament in Bettendorf\, IA. Boys & Girls travel\, local and regional teams are welcome to attend. \n\n Tournament\n All teams\n Boys & Girls: 18U\, 16U\, 15U\, 14U\, 13U\, 12U\, 11U\, 10U\, 9U\n Ability: Elite/Competitive/Developmental\n $250.00 entry fee\n 3 game guarantee\n Exposure Certified
URL:https://www.tbkbanksportscomplex.com/event/battle-of-the-ballers-quad-cities/
LOCATION:TBK Bank Sports Complex\, 4850 Competition Drive\, Bettendorf\, IA\, 52722\, United States
CATEGORIES:Basketball,Basketball Tournaments
ATTACH;FMTTYPE=image/png:https://www.tbkbanksportscomplex.com/wp-content/uploads/2024/01/Big-Time-Balling.png
ORGANIZER;CN="Big Time Balling":MAILTO:info@bigtimeballing.net
END:VEVENT
END:VCALENDAR