BEGIN:VCALENDAR
VERSION:2.0
PRODID:-//TBK Bank Sports Complex &amp; Entertainment - ECPv6.15.20//NONSGML v1.0//EN
CALSCALE:GREGORIAN
METHOD:PUBLISH
X-WR-CALNAME:TBK Bank Sports Complex &amp; Entertainment
X-ORIGINAL-URL:https://www.tbkbanksportscomplex.com
X-WR-CALDESC:Events for TBK Bank Sports Complex &amp; Entertainment
REFRESH-INTERVAL;VALUE=DURATION:PT1H
X-Robots-Tag:noindex
X-PUBLISHED-TTL:PT1H
BEGIN:VTIMEZONE
TZID:America/Chicago
BEGIN:DAYLIGHT
TZOFFSETFROM:-0600
TZOFFSETTO:-0500
TZNAME:CDT
DTSTART:20230312T080000
END:DAYLIGHT
BEGIN:STANDARD
TZOFFSETFROM:-0500
TZOFFSETTO:-0600
TZNAME:CST
DTSTART:20231105T070000
END:STANDARD
BEGIN:DAYLIGHT
TZOFFSETFROM:-0600
TZOFFSETTO:-0500
TZNAME:CDT
DTSTART:20240310T080000
END:DAYLIGHT
BEGIN:STANDARD
TZOFFSETFROM:-0500
TZOFFSETTO:-0600
TZNAME:CST
DTSTART:20241103T070000
END:STANDARD
BEGIN:DAYLIGHT
TZOFFSETFROM:-0600
TZOFFSETTO:-0500
TZNAME:CDT
DTSTART:20250309T080000
END:DAYLIGHT
BEGIN:STANDARD
TZOFFSETFROM:-0500
TZOFFSETTO:-0600
TZNAME:CST
DTSTART:20251102T070000
END:STANDARD
BEGIN:DAYLIGHT
TZOFFSETFROM:-0600
TZOFFSETTO:-0500
TZNAME:CDT
DTSTART:20260308T080000
END:DAYLIGHT
BEGIN:STANDARD
TZOFFSETFROM:-0500
TZOFFSETTO:-0600
TZNAME:CST
DTSTART:20261101T070000
END:STANDARD
END:VTIMEZONE
BEGIN:VEVENT
DTSTART;VALUE=DATE:20241227
DTEND;VALUE=DATE:20250103
DTSTAMP:20260420T124917
CREATED:20241216T224540Z
LAST-MODIFIED:20241216T224540Z
UID:10002322-1735257600-1735862399@www.tbkbanksportscomplex.com
SUMMARY:The New Threat Basketball Christmas Clinic
DESCRIPTION:Come Join us for 1\,2\, or 3 days of New Threat Basketball Christmas Clinics at TBK Sports Complex! During this clinic\, your players will improve their basketball skills! Coach Macy Beinborn and Coach TJ Lacy are looking forward to working with your players! \nWho: K-12 Girls & Boys \nDates: \nDay 1 (December 27th): Ball handling\, Footwork and Finishing  \nDay 2 (December 30th): Shooting & Passing \nDay 3 (January 2nd): Defense & IQ Development \n  \nTimes: 11AM-1PM (Each Day) \nLocation: TBK Bank Sports Complex (4850 Competition Drive\, Bettendorf\, IA\, 52722)  \nPrice: \n1 Day: $40 \n2 Days: $70 \n3 Days: $90 \n  \n  \nContact: \nTJ Lacey: 312-978-2363 \nOr  \nMacy Beinborn: 563-320-2551 \nor \nnewthreatbasketball@gmail.com \n 
URL:https://www.tbkbanksportscomplex.com/event/the-new-threat-basketball-christmas-clinic/
LOCATION:TBK Bank Sports Complex\, 4850 Competition Drive\, Bettendorf\, IA\, 52722\, United States
CATEGORIES:Basketball,Basketball Camps,Camps
ATTACH;FMTTYPE=image/jpeg:https://www.tbkbanksportscomplex.com/wp-content/uploads/2024/12/New-Threat-Christmas.jpeg
END:VEVENT
BEGIN:VEVENT
DTSTART;VALUE=DATE:20250104
DTEND;VALUE=DATE:20250105
DTSTAMP:20260420T124917
CREATED:20241019T124652Z
LAST-MODIFIED:20241111T184828Z
UID:10002279-1735948800-1736035199@www.tbkbanksportscomplex.com
SUMMARY:PiQCkleball & More New Year's Pickleball Tournament
DESCRIPTION:Come join us for our first ever PiQCkleball & More New Year’s Pickleball Tournament on January 4th\, 2025! \nThis event is a non-sanctioned\, adult-only (18+) pickleball tournament to be played on the indoor basketball courts at TBKSC. Game format will be announced the day of the tournament. \nEvents:\n3.0 Women’s Doubles\n3.5 Women’s Doubles\n3.0 Men’s Doubles\n3.5 Men’s Doubles\n3.0 Mixed Doubles\n3.5 Mixed Doubles \nGender Doubles start at 8AM\, followed by Mixed Doubles. \nPrices: (Includes Registration Fee & Shirt)\n$45- One Event\n$65- Two Events\nRegistration Open November 1st! \n*Each Participant must register separately* \nFor more details\, contact:\nJeffrey Van der Eems (jeffreyeems@hotmail.com)\nDelaney Evans (d.evans@tbkbanksportscomplex.com) \n  \n 
URL:https://www.tbkbanksportscomplex.com/event/piqckleball-more-new-years-pickleball-tournament/
LOCATION:TBK Bank Sports Complex\, 4850 Competition Drive\, Bettendorf\, IA\, 52722\, United States
CATEGORIES:Other Sports,Tournaments
ATTACH;FMTTYPE=image/jpeg:https://www.tbkbanksportscomplex.com/wp-content/uploads/2024/10/PiQCkleball-More-New-Years-Pickleball-Tournament-1.jpg
ORGANIZER;CN="PiQCkleball & More Clinics":MAILTO:jeffreyeems@hotmail.com&gt;
END:VEVENT
END:VCALENDAR