BEGIN:VCALENDAR
VERSION:2.0
PRODID:-//TBK Bank Sports Complex &amp; Entertainment - ECPv6.15.20//NONSGML v1.0//EN
CALSCALE:GREGORIAN
METHOD:PUBLISH
X-ORIGINAL-URL:https://www.tbkbanksportscomplex.com
X-WR-CALDESC:Events for TBK Bank Sports Complex &amp; Entertainment
REFRESH-INTERVAL;VALUE=DURATION:PT1H
X-Robots-Tag:noindex
X-PUBLISHED-TTL:PT1H
BEGIN:VTIMEZONE
TZID:America/Chicago
BEGIN:DAYLIGHT
TZOFFSETFROM:-0600
TZOFFSETTO:-0500
TZNAME:CDT
DTSTART:20230312T080000
END:DAYLIGHT
BEGIN:STANDARD
TZOFFSETFROM:-0500
TZOFFSETTO:-0600
TZNAME:CST
DTSTART:20231105T070000
END:STANDARD
BEGIN:DAYLIGHT
TZOFFSETFROM:-0600
TZOFFSETTO:-0500
TZNAME:CDT
DTSTART:20240310T080000
END:DAYLIGHT
BEGIN:STANDARD
TZOFFSETFROM:-0500
TZOFFSETTO:-0600
TZNAME:CST
DTSTART:20241103T070000
END:STANDARD
BEGIN:DAYLIGHT
TZOFFSETFROM:-0600
TZOFFSETTO:-0500
TZNAME:CDT
DTSTART:20250309T080000
END:DAYLIGHT
BEGIN:STANDARD
TZOFFSETFROM:-0500
TZOFFSETTO:-0600
TZNAME:CST
DTSTART:20251102T070000
END:STANDARD
END:VTIMEZONE
BEGIN:VEVENT
DTSTART;VALUE=DATE:20240217
DTEND;VALUE=DATE:20240219
DTSTAMP:20260421T103028
CREATED:20240117T202209Z
LAST-MODIFIED:20240117T204137Z
UID:10002187-1708128000-1708300799@www.tbkbanksportscomplex.com
SUMMARY:USA Jam
DESCRIPTION:Level 12 Sports returns to Bettendorf and the TBK Bank Sports Complex on February 17-18\, 2024 to host a NEW President’s Day weekend tournament. \nThis beautiful facility hosts 12 courts and can accommodate 96 teams under one roof. Located on 77-acres the facility includes outdoor turf fields for baseball and soccer\, food and beverage concessions\, and sand volleyball courts. Inside the facility you will find additional turf fields\, basketball and volleyball courts\, a bar and restaurant\, and a full-service 2-story family entertainment center. \nThis event is open to USAV\, AAU\, and JVA teams.   \n\n\n\nDate: February 17-18\, 2024\nCost: $395 / team\nDivisions: Girls 12-18\nTBK Bank Sports Complex: 4850 Competition Drive\, Bettendorf\, IA 52722\nSpectator Tickets: TBA\n\n\n\n\n\n\nParking: FREE parking available on site
URL:https://www.tbkbanksportscomplex.com/event/usa-jam/
LOCATION:TBK Bank Sports Complex\, 4850 Competition Drive\, Bettendorf\, IA\, 52722\, United States
CATEGORIES:Volleyball,Volleyball Tournaments
ATTACH;FMTTYPE=image/webp:https://www.tbkbanksportscomplex.com/wp-content/uploads/2024/01/USA-Jam.webp
ORGANIZER;CN="Level 12 Sports":MAILTO:tristan@level12sports.com
END:VEVENT
BEGIN:VEVENT
DTSTART;VALUE=DATE:20240218
DTEND;VALUE=DATE:20240220
DTSTAMP:20260421T103028
CREATED:20231104T015052Z
LAST-MODIFIED:20231104T015052Z
UID:10002172-1708214400-1708387199@www.tbkbanksportscomplex.com
SUMMARY:President's Day Slugfest 2 (Sunday-Monday)
DESCRIPTION:The President’s Day Slugfest 1 will be a huge hit for the 2024 Indoor season!  This event is a USSSA sanctioned for All Ages and is a State and World Series Qualifier.  This event will sell out quickly.  Tournament will be played until complete. There is a possibility that games may run late into the night or early into the morning. \n\n\nWHEN\nFeb 18 – Feb 19\n\n\nWHERE\nTBK Bank Sports Complex – IA\n\n\n\n\nDIVISION               COST \n12u Open                    $765\n16u Open                    $765
URL:https://www.tbkbanksportscomplex.com/event/presidents-day-slugfest-2-sunday-monday/
LOCATION:TBK Bank Sports Complex\, 4850 Competition Drive\, Bettendorf\, IA\, 52722\, United States
CATEGORIES:Softball Tournaments
ATTACH;FMTTYPE=image/png:https://www.tbkbanksportscomplex.com/wp-content/uploads/2023/11/presidents-day-slugfest-1-friday-saturday-2024-.png
END:VEVENT
BEGIN:VEVENT
DTSTART;VALUE=DATE:20240223
DTEND;VALUE=DATE:20240225
DTSTAMP:20260421T103028
CREATED:20231104T014122Z
LAST-MODIFIED:20231104T014122Z
UID:10002169-1708646400-1708819199@www.tbkbanksportscomplex.com
SUMMARY:Midnight Madness 7- Friday Night
DESCRIPTION:The Midnight Madness Events are for teams looking to play a quick Round Robin. Games will start around Midnight and each of the 4 teams will play 3 games in a row. \n\n\nWHEN\nFeb 23 – Feb 24\n\n\nWHERE\nTBK Bank Sports Complex – IA\n\n\n\n\nDIVISION                 COST \n14u Open                       $450
URL:https://www.tbkbanksportscomplex.com/event/midnight-madness-7-friday-night/
LOCATION:TBK Bank Sports Complex\, 4850 Competition Drive\, Bettendorf\, IA\, 52722\, United States
CATEGORIES:Softball Tournaments
ATTACH;FMTTYPE=image/png:https://www.tbkbanksportscomplex.com/wp-content/uploads/2023/11/midnight-madness-7-friday-night-2024.png
END:VEVENT
BEGIN:VEVENT
DTSTART;VALUE=DATE:20240223
DTEND;VALUE=DATE:20240226
DTSTAMP:20260421T103028
CREATED:20231104T015538Z
LAST-MODIFIED:20231104T015538Z
UID:10002173-1708646400-1708905599@www.tbkbanksportscomplex.com
SUMMARY:High School Warm-Up- SOLD OUT
DESCRIPTION:The High School Warm-Up will be a huge hit for the 2024 Indoor season!  This event is a USSSA sanctioned for All Ages and is a State and World Series Qualifier.  This event will sell out quickly. \n\n\nWHEN\nFeb 23 – Feb 25\n\n\nWHERE\nTBK Bank Sports Complex – IA\n\n\n\n\nDIVISION                COST \n16u Open                      $725\n18u Open                      $725
URL:https://www.tbkbanksportscomplex.com/event/high-school-warm-up-sold-out/
LOCATION:TBK Bank Sports Complex\, 4850 Competition Drive\, Bettendorf\, IA\, 52722\, United States
CATEGORIES:Softball Tournaments
ATTACH;FMTTYPE=image/png:https://www.tbkbanksportscomplex.com/wp-content/uploads/2023/11/high-school-warm-up-sold-out-2024.png
END:VEVENT
BEGIN:VEVENT
DTSTART;VALUE=DATE:20240224
DTEND;VALUE=DATE:20240226
DTSTAMP:20260421T103028
CREATED:20231104T014354Z
LAST-MODIFIED:20231104T014354Z
UID:10002170-1708732800-1708905599@www.tbkbanksportscomplex.com
SUMMARY:Midnight Madness 8- Saturday Night
DESCRIPTION:The Midnight Madness Events are for teams looking to play a quick Round Robin. Games will start around Midnight and each of the 4 teams will play 3 games in a row. \n\n\nWHEN\nFeb 24 – Feb 25\n\n\nWHERE\nTBK Bank Sports Complex – IA\n\n\n\n\nDIVISION          COST \n12u Open                $450
URL:https://www.tbkbanksportscomplex.com/event/midnight-madness-8-saturday-night/
LOCATION:TBK Bank Sports Complex\, 4850 Competition Drive\, Bettendorf\, IA\, 52722\, United States
CATEGORIES:Softball Tournaments
ATTACH;FMTTYPE=image/png:https://www.tbkbanksportscomplex.com/wp-content/uploads/2023/11/midnight-madness-8-saturday-night-2024-.png
END:VEVENT
END:VCALENDAR