BEGIN:VCALENDAR
VERSION:2.0
PRODID:-//TBK Bank Sports Complex &amp; Entertainment - ECPv6.15.20//NONSGML v1.0//EN
CALSCALE:GREGORIAN
METHOD:PUBLISH
X-WR-CALNAME:TBK Bank Sports Complex &amp; Entertainment
X-ORIGINAL-URL:https://www.tbkbanksportscomplex.com
X-WR-CALDESC:Events for TBK Bank Sports Complex &amp; Entertainment
REFRESH-INTERVAL;VALUE=DURATION:PT1H
X-Robots-Tag:noindex
X-PUBLISHED-TTL:PT1H
BEGIN:VTIMEZONE
TZID:America/Chicago
BEGIN:DAYLIGHT
TZOFFSETFROM:-0600
TZOFFSETTO:-0500
TZNAME:CDT
DTSTART:20230312T080000
END:DAYLIGHT
BEGIN:STANDARD
TZOFFSETFROM:-0500
TZOFFSETTO:-0600
TZNAME:CST
DTSTART:20231105T070000
END:STANDARD
BEGIN:DAYLIGHT
TZOFFSETFROM:-0600
TZOFFSETTO:-0500
TZNAME:CDT
DTSTART:20240310T080000
END:DAYLIGHT
BEGIN:STANDARD
TZOFFSETFROM:-0500
TZOFFSETTO:-0600
TZNAME:CST
DTSTART:20241103T070000
END:STANDARD
BEGIN:DAYLIGHT
TZOFFSETFROM:-0600
TZOFFSETTO:-0500
TZNAME:CDT
DTSTART:20250309T080000
END:DAYLIGHT
BEGIN:STANDARD
TZOFFSETFROM:-0500
TZOFFSETTO:-0600
TZNAME:CST
DTSTART:20251102T070000
END:STANDARD
END:VTIMEZONE
BEGIN:VEVENT
DTSTART;VALUE=DATE:20240308
DTEND;VALUE=DATE:20240311
DTSTAMP:20260421T073157
CREATED:20240131T200710Z
LAST-MODIFIED:20240131T200723Z
UID:10002195-1709856000-1710115199@www.tbkbanksportscomplex.com
SUMMARY:March Madness (Indoor) AA Teams Only - Sold Out
DESCRIPTION:WHEN\nMar 08 – Mar 10\n\n\nWHERE\nTBK Bank Sports Complex – IA\n\n\n\n\n\nDIVISION \n9u USSSA – AA\n10u USSSA – AA\n11u USSSA – AA\n12u USSSA – AA \n\n\n\n\nCOST \n$ 625\n$ 625\n$ 625\n$ 625
URL:https://www.tbkbanksportscomplex.com/event/march-madness-indoor-aa-teams-only-sold-out/
LOCATION:TBK Bank Sports Complex\, 4850 Competition Drive\, Bettendorf\, IA\, 52722\, United States
CATEGORIES:Baseball,Baseball Tournaments
ATTACH;FMTTYPE=image/png:https://www.tbkbanksportscomplex.com/wp-content/uploads/2024/01/March-Madness.png
END:VEVENT
BEGIN:VEVENT
DTSTART;VALUE=DATE:20240309
DTEND;VALUE=DATE:20240311
DTSTAMP:20260421T073157
CREATED:20240117T201659Z
LAST-MODIFIED:20240117T204217Z
UID:10002186-1709942400-1710115199@www.tbkbanksportscomplex.com
SUMMARY:Queen of Quad City
DESCRIPTION:Queen of Quad City is back again in 2023 at the state-of-the-art TBK Bank Sports Complex on March 9-10. \nThis beautiful facility hosts 12 courts and can accommodate 96 teams under one roof. Located on 77-acres the facility includes outdoor turf fields for baseball and soccer\, food and beverage concessions\, and sand volleyball courts. Inside the facility you will find additional turf fields\, basketball and volleyball courts\, a bar and restaurant\, and a full-service 2-story family entertainment center. \nThis event is open to USAV\, AAU\, and JVA teams.   \n\n\n\nDate: March 9-10\, 2024\n\n\n\n\n\nCost: $395 / team\n\n\n\n\nDivisions: Girls 12-18\n\n\n\n\nTBK Bank Sports Complex: 4850 Competition Drive\, Bettendorf\, IA 52722\n\n\n\n\nSpectator Tickets :$20 Weekend Pass\, or $12 Day Pass (Kids 10 and under are FREE)\n\n\n\n\n\nParking: FREE parking available on site
URL:https://www.tbkbanksportscomplex.com/event/queen-of-quad-city/
LOCATION:TBK Bank Sports Complex\, 4850 Competition Drive\, Bettendorf\, IA\, 52722\, United States
CATEGORIES:Volleyball,Volleyball Tournaments
ATTACH;FMTTYPE=image/webp:https://www.tbkbanksportscomplex.com/wp-content/uploads/2024/01/Queen-of-Quad-City.webp
ORGANIZER;CN="Level 12 Sports":MAILTO:tristan@level12sports.com
END:VEVENT
BEGIN:VEVENT
DTSTART;VALUE=DATE:20240311
DTEND;VALUE=DATE:20240316
DTSTAMP:20260421T073157
CREATED:20240117T181901Z
LAST-MODIFIED:20240117T181901Z
UID:10002183-1710115200-1710547199@www.tbkbanksportscomplex.com
SUMMARY:All Sports and Activities Spring Break Camp
DESCRIPTION:Come join us at the TBK Bank Sports Complex Kids Spring Break Camp\, where campers will have fun by participating in a variety of indoor & outdoor activities. This camp is for girls and boys ages 6-12 years old.  Our staff is looking forward to having your camper at our Spring Break camp. \nDates: \nMarch 11th to March 15th\, 2024 \n  \nWhat makes us unique? \nCampers can expect to participate in the following activities: indoor hockey\, basketball\, crafts\, volleyball\, soccer and arcade games and so much more! Each day at camp\, campers will have 4-6 set activities as well as built-in free time.  All of our staff has experience working with children and have done multiple actives that we offer before being hired at TBK Bank Sports Complex.
URL:https://www.tbkbanksportscomplex.com/event/all-sports-and-activities-spring-break-camp/
LOCATION:TBK Bank Sports Complex\, 4850 Competition Drive\, Bettendorf\, IA\, 52722\, United States
CATEGORIES:Camps
ATTACH;FMTTYPE=application/pdf:https://www.tbkbanksportscomplex.com/wp-content/uploads/2024/01/Spring-break-camp-2024-1.pdf
ORGANIZER;CN="TBK Bank Sports Complex":MAILTO:leagues@tbkbanksportscomplex.com
END:VEVENT
BEGIN:VEVENT
DTSTART;VALUE=DATE:20240315
DTEND;VALUE=DATE:20240318
DTSTAMP:20260421T073157
CREATED:20240131T201141Z
LAST-MODIFIED:20240131T201141Z
UID:10002196-1710460800-1710719999@www.tbkbanksportscomplex.com
SUMMARY:JPSports TBK Season Opener
DESCRIPTION:WHEN\nMar 15 – Mar 17\n\n\nWHERE\nTBK Bank Sports Complex – IA\n\n\n\n\nDIVISION \n9u USSSA – Open\n9u USSSA – AA\n10u USSSA – Open\n10u USSSA – AA\n11u USSSA – Open\n11u USSSA – AA\n12u USSSA – Open\n12u USSSA – AA\n13u USSSA – Open\n13u USSSA – AA\n14u USSSA – Open\n14u USSSA – AA\n15u Open\n16u Open \n\n\n\nCOST \n$ 400\n$ 400\n$ 400\n$ 400\n$ 400\n$ 400\n$ 400\n$ 400\n$ 400\n$ 400\n$ 400\n$ 400\n$ 550\n$ 550
URL:https://www.tbkbanksportscomplex.com/event/jpsports-tbk-season-opener/
LOCATION:TBK Bank Sports Complex\, 4850 Competition Drive\, Bettendorf\, IA\, 52722\, United States
CATEGORIES:Baseball,Baseball Tournaments
ATTACH;FMTTYPE=image/png:https://www.tbkbanksportscomplex.com/wp-content/uploads/2024/01/Tbk-Season-opener.png
END:VEVENT
BEGIN:VEVENT
DTSTART;VALUE=DATE:20240315
DTEND;VALUE=DATE:20240318
DTSTAMP:20260421T073157
CREATED:20240131T201535Z
LAST-MODIFIED:20240131T201535Z
UID:10002197-1710460800-1710719999@www.tbkbanksportscomplex.com
SUMMARY:Shamrock Slugfest (Indoor)- Sold Out
DESCRIPTION:WHEN\nMar 15 – Mar 17\n\n\nWHERE\nTBK Bank Sports Complex – IA\n\n\n\n\nDIVISION \n9u USSSA – Open\n10u USSSA – Open\n11u USSSA – Open\n12u USSSA – Open \n\n\n\nCOST \n$ 625\n$ 625\n$ 625\n$ 625
URL:https://www.tbkbanksportscomplex.com/event/shamrock-slugfest-indoor-sold-out/
LOCATION:TBK Bank Sports Complex\, 4850 Competition Drive\, Bettendorf\, IA\, 52722\, United States
CATEGORIES:Baseball,Baseball Tournaments
ATTACH;FMTTYPE=image/png:https://www.tbkbanksportscomplex.com/wp-content/uploads/2024/01/Shamrock-Slugfest.png
END:VEVENT
END:VCALENDAR