BEGIN:VCALENDAR
VERSION:2.0
PRODID:-//TBK Bank Sports Complex &amp; Entertainment - ECPv6.15.20//NONSGML v1.0//EN
CALSCALE:GREGORIAN
METHOD:PUBLISH
X-ORIGINAL-URL:https://www.tbkbanksportscomplex.com
X-WR-CALDESC:Events for TBK Bank Sports Complex &amp; Entertainment
REFRESH-INTERVAL;VALUE=DURATION:PT1H
X-Robots-Tag:noindex
X-PUBLISHED-TTL:PT1H
BEGIN:VTIMEZONE
TZID:America/Chicago
BEGIN:DAYLIGHT
TZOFFSETFROM:-0600
TZOFFSETTO:-0500
TZNAME:CDT
DTSTART:20230312T080000
END:DAYLIGHT
BEGIN:STANDARD
TZOFFSETFROM:-0500
TZOFFSETTO:-0600
TZNAME:CST
DTSTART:20231105T070000
END:STANDARD
BEGIN:DAYLIGHT
TZOFFSETFROM:-0600
TZOFFSETTO:-0500
TZNAME:CDT
DTSTART:20240310T080000
END:DAYLIGHT
BEGIN:STANDARD
TZOFFSETFROM:-0500
TZOFFSETTO:-0600
TZNAME:CST
DTSTART:20241103T070000
END:STANDARD
BEGIN:DAYLIGHT
TZOFFSETFROM:-0600
TZOFFSETTO:-0500
TZNAME:CDT
DTSTART:20250309T080000
END:DAYLIGHT
BEGIN:STANDARD
TZOFFSETFROM:-0500
TZOFFSETTO:-0600
TZNAME:CST
DTSTART:20251102T070000
END:STANDARD
END:VTIMEZONE
BEGIN:VEVENT
DTSTART;VALUE=DATE:20240325
DTEND;VALUE=DATE:20240514
DTSTAMP:20260421T062243
CREATED:20240206T221720Z
LAST-MODIFIED:20240208T181529Z
UID:10002222-1711324800-1715644799@www.tbkbanksportscomplex.com
SUMMARY:Spring 2024- Sporting Iowa Discovery and DNA Soccer Spring Soccer 3-12 year old
DESCRIPTION:Sporting Iowa East and DNA Discovery soccer is our foundational program.  It introduces 4U-8U players to the game of soccer and teaches the game in a fun non-competitive environment to foster a passion for soccer.  The program focuses on individual player development using engaging drills and short-sided games.  Coach to player ratio is kept small to maximize individual interaction with these young players.  All activities are held at the TBK Bank Sports Complex.  Discovery soccer programming is available in the fall\, winter\, spring and summer seasons. \n  \n3-4 Years Old Discovery: Spring Session \nWhat: \nPlayers ages 3-4 participate in 8 sessions designed to introduce younger children to soccer. Players are guided through various engaging\, imaginative\, and fun soccer-based activities by professional coaching staff\, college and high school players. \n  \nWhen: \nDates: Mondays\, MARCH 25-MAY 13 \nSession Times: 5:00 to 5:45 PM \n  \nWhere: \nTBK Bank Sports Complex\, 4850 Competition Drive\, Bettendorf\, Iowa 52722 \nField: TBK Indoor Soccer Field 11 \n  \nCost \nPlayer who is participating must be a Level II member to qualify for the Level II membership fee. \nNon-Level II Membership $100.00 \nLevel II Membership $85.00. \nLate registration fee after March 26\, 2024\, cost will increase by $15.00. \n\n  \n5-8 Year Old Discovery: Spring Session \n\nWhat: \nPlayers 5-8 participate in 8 sessions following the play and practice hybrid model. Players are divided into 2 general groups by age (5-6 years old and 7-8 years old) and then within these age groups\, into smaller training groups and each receive 30 minute training sessions under guidance of professional coaches immediately followed by a 4v4 game without goalkeepers against other kids in the program.  Playing time is generally equal among players. \n  \nTraining is age appropriate based curriculum and drills developed by professional staff.  It is focused on basic skill development with an emphasis on dribbling\, footwork and 1v1 games. \n  \nWhen: \nDates: Mondays\, MARCH 25-MAY 13 \nSession Times: 5:00 to 6:00 PM \n  \nWhere: \nTBK Bank Sports Complex\, 4850 Competition Drive\, Bettendorf\, Iowa 52722 \nField: TBK Indoor Soccer Field 11 \n  \nCost: \nPlayer who is participating must be a Level II member to qualify for the Level II membership fee. \nNon-Level II Member $120.00\nLevel II Membership $105.00 \nLate registration fee after November 26\, 2023\, cost will increase by $15.00. \n  \n\nRecreational Phase 9-12 Years Old \nRecreational soccer provides 9-12 year old players an opportunity to stay active\, learn new skills\, and play with friends in a fun and relaxed environment to fuel a lifelong love of the game.  Recreational soccer does not have tryouts and does not emphasize high-level competition.  Players are grouped together by ability within the age range and train and compete at the TBK Bank Sports Complex. \n9-12 Year Old Recreational Phase: Spring Session \nWhat: \nPlayers ages 9-12 will participate in 8 sessions following the play and practice hybrid model. Players receive a 30 minute training session under guidance of professional coaches immediately followed by a 7v7 game with goalkeepers against other kids in the program.  Playing time is generally equal among players. \nTraining is age appropriate based curriculum and drills developed by professional staff. It is focused on basic skill development with an emphasis on attacking and defending in pairs. \n  \nWhen: \nDates: Mondays\, MARCH 25-MAY 13\, 2024 \nSession Times: 5:00 to 6:00 PM \n  \nWhere: \nTBK Bank Sports Complex\, 4850 Competition Drive\, Bettendorf\, Iowa 52722 \nField: TBK Indoor Soccer Field 11 \nCost: \nPlayer who is participating must be a Level II member to qualify for the Level II membership fee. \nNon-Level II Member $120.00\nLevel II Membership $105.00 \nLate registration fee after March 26\, 2024\, cost will increase by $15.00.
URL:https://www.tbkbanksportscomplex.com/event/spring-2024-sporting-iowa-discovery-and-dna-soccer-spring-soccer-3-12-year-old/
LOCATION:TBK Bank Sports Complex\, 4850 Competition Drive\, Bettendorf\, IA\, 52722\, United States
CATEGORIES:Soccer,Soccer Leagues
ATTACH;FMTTYPE=image/jpeg:https://www.tbkbanksportscomplex.com/wp-content/uploads/2024/02/Discvery-Fall-2023-Soccer-Flyers.jpg
ORGANIZER;CN="Sporting Iowa East":MAILTO:sportingiowaeast@pldsports.org
END:VEVENT
BEGIN:VEVENT
DTSTART;VALUE=DATE:20240419
DTEND;VALUE=DATE:20240422
DTSTAMP:20260421T062243
CREATED:20240131T210117Z
LAST-MODIFIED:20240131T210117Z
UID:10002206-1713484800-1713743999@www.tbkbanksportscomplex.com
SUMMARY:Turf Battle of the Borders (A/AA Only)
DESCRIPTION:WHEN\nApr 19 – Apr 21\n\n\nWHERE\nTBK Bank Sports Complex – IA\n\n\n\n\nDIVISION \n9u USSSA – A\n9u USSSA – AA\n10u USSSA – A\n10u USSSA – AA\n11u USSSA – A\n11u USSSA – AA\n12u USSSA – A\n12u USSSA – AA\n13u USSSA – A\n13u USSSA – AA\n14u USSSA – A\n14u USSSA – AA\n15u Open\n16u Open \n\n\n\nCOST \n$ 620\n$ 620\n$ 620\n$ 620\n$ 620\n$ 620\n$ 620\n$ 620\n$ 620\n$ 620\n$ 620\n$ 620\n$ 750\n$ 750
URL:https://www.tbkbanksportscomplex.com/event/turf-battle-of-the-borders-a-aa-only-2/
LOCATION:TBK Bank Sports Complex\, 4850 Competition Drive\, Bettendorf\, IA\, 52722\, United States
CATEGORIES:Baseball,Baseball Tournaments
ATTACH;FMTTYPE=image/png:https://www.tbkbanksportscomplex.com/wp-content/uploads/2024/01/Turf-Battle-of-the-borders.png
END:VEVENT
BEGIN:VEVENT
DTSTART;VALUE=DATE:20240420
DTEND;VALUE=DATE:20240422
DTSTAMP:20260421T062243
CREATED:20240130T224732Z
LAST-MODIFIED:20240130T224732Z
UID:10002190-1713571200-1713743999@www.tbkbanksportscomplex.com
SUMMARY:Rumble By The River
DESCRIPTION:APRIL 20-21\, 2024\nDivisions: Open to boys and girls\, grades 3rd-12th. \nLocation: TBK Sports Complex \nDetails: \n\nTwo-Day Tournament.\nMinimum 3 Game Guarantee\nBracket-play tournament style to name a divisional champ\nChampionship award/shirt to each divisional champ\nSocial media highlights and shoutouts on gametimetourneys social media accounts\nTourney Machine for Scheduling\n$250/ team\nMulti-team discounts are available for 3+ teams! Contact director@gametimetourneys.com\n\nQuestions: director@gametimetourneys.com
URL:https://www.tbkbanksportscomplex.com/event/rumble-by-the-river-2/
LOCATION:TBK Bank Sports Complex\, 4850 Competition Drive\, Bettendorf\, IA\, 52722\, United States
CATEGORIES:Basketball,Basketball Tournaments
ATTACH;FMTTYPE=image/png:https://www.tbkbanksportscomplex.com/wp-content/uploads/2024/01/RumblebytheRiver.png
ORGANIZER;CN="Iowa Swarm":MAILTO:kasey@swarm-basketball.com
END:VEVENT
BEGIN:VEVENT
DTSTART;VALUE=DATE:20240426
DTEND;VALUE=DATE:20240429
DTSTAMP:20260421T062243
CREATED:20240131T210541Z
LAST-MODIFIED:20240131T210541Z
UID:10002207-1714089600-1714348799@www.tbkbanksportscomplex.com
SUMMARY:Easton Hype Tour- Bettendorf HIT
DESCRIPTION:WHEN\nApr 26 – Apr 28\n\n\nWHERE\nTBK Bank Sports Complex – IA\n\n\n\n\nDIVISION \n9u USSSA – Open\n9u USSSA – AA\n9u USSSA – AAA\n10u USSSA – Open\n10u USSSA – AA\n10u USSSA – AAA\n11u USSSA – Open\n11u USSSA – AA\n11u USSSA – AAA\n12u USSSA – Open\n12u USSSA – AA\n12u USSSA – AAA\n13u USSSA – Open\n13u USSSA – AA\n13u USSSA – AAA\n14u USSSA – Open\n14u USSSA – AA\n14u USSSA – AAA \n\n\n\nCOST \n$ 620\n$ 620\n$ 620\n$ 620\n$ 620\n$ 620\n$ 620\n$ 620\n$ 620\n$ 620\n$ 620\n$ 620\n$ 620\n$ 620\n$ 620\n$ 620\n$ 620\n$ 620
URL:https://www.tbkbanksportscomplex.com/event/easton-hype-tour-bettendorf-hit/
LOCATION:TBK Bank Sports Complex\, 4850 Competition Drive\, Bettendorf\, IA\, 52722\, United States
CATEGORIES:Baseball,Baseball Tournaments
ATTACH;FMTTYPE=image/png:https://www.tbkbanksportscomplex.com/wp-content/uploads/2024/01/easton-hype-tour.png
END:VEVENT
END:VCALENDAR