BEGIN:VCALENDAR
VERSION:2.0
PRODID:-//TBK Bank Sports Complex &amp; Entertainment - ECPv6.15.20//NONSGML v1.0//EN
CALSCALE:GREGORIAN
METHOD:PUBLISH
X-WR-CALNAME:TBK Bank Sports Complex &amp; Entertainment
X-ORIGINAL-URL:https://www.tbkbanksportscomplex.com
X-WR-CALDESC:Events for TBK Bank Sports Complex &amp; Entertainment
REFRESH-INTERVAL;VALUE=DURATION:PT1H
X-Robots-Tag:noindex
X-PUBLISHED-TTL:PT1H
BEGIN:VTIMEZONE
TZID:America/Chicago
BEGIN:DAYLIGHT
TZOFFSETFROM:-0600
TZOFFSETTO:-0500
TZNAME:CDT
DTSTART:20230312T080000
END:DAYLIGHT
BEGIN:STANDARD
TZOFFSETFROM:-0500
TZOFFSETTO:-0600
TZNAME:CST
DTSTART:20231105T070000
END:STANDARD
BEGIN:DAYLIGHT
TZOFFSETFROM:-0600
TZOFFSETTO:-0500
TZNAME:CDT
DTSTART:20240310T080000
END:DAYLIGHT
BEGIN:STANDARD
TZOFFSETFROM:-0500
TZOFFSETTO:-0600
TZNAME:CST
DTSTART:20241103T070000
END:STANDARD
BEGIN:DAYLIGHT
TZOFFSETFROM:-0600
TZOFFSETTO:-0500
TZNAME:CDT
DTSTART:20250309T080000
END:DAYLIGHT
BEGIN:STANDARD
TZOFFSETFROM:-0500
TZOFFSETTO:-0600
TZNAME:CST
DTSTART:20251102T070000
END:STANDARD
END:VTIMEZONE
BEGIN:VEVENT
DTSTART;VALUE=DATE:20240603
DTEND;VALUE=DATE:20240817
DTSTAMP:20260421T000621
CREATED:20240208T170528Z
LAST-MODIFIED:20240521T211934Z
UID:10002223-1717372800-1723852799@www.tbkbanksportscomplex.com
SUMMARY:All Sports and Activities Summer Break Camp
DESCRIPTION:Come join us at the TBK Bank Sports Complex Kids Summer Break Camp\, where campers will have fun by participating in a variety of indoor & outdoor activities. This camp is for girls and boys ages 6-12 years old.  Our staff is looking forward to having your camper at our Summer Break camp. \nDates: \nJune 3rd to August 16th\, 2024 \n(No camp the week of July 4th) \nWeek 1 – June 3rd-7th \nWeek 2- June 10th-14th \nWeek 3- June 17th-21st \nWeek 4- June 24th- 28th \nWeek 5- July 8th-12th \nWeek 6- July 15th-19th \nWeek 7- July 22nd-26th \nWeek 8- July 29th- August 2nd \nWeek 9- August 5th-9th \nWeek 10- August 12th-16th \nWhat makes us unique? \nCampers can expect to participate in the following activities: indoor hockey\, basketball\, crafts\, volleyball\, soccer and arcade games and so much more! Each day at camp\, campers will have 4-6 set activities as well as built-in free time.  All of our staff has experience working with children and have done multiple actives that we offer before being hired at TBK Bank Sports Complex. \n  \nSign Up Today!! \n 
URL:https://www.tbkbanksportscomplex.com/event/https-www-tbkbanksportscomplex-com-sports-complex-youth-sports-training-camps/
LOCATION:TBK Bank Sports Complex\, 4850 Competition Drive\, Bettendorf\, IA\, 52722\, United States
CATEGORIES:Camps
ATTACH;FMTTYPE=image/jpeg:https://www.tbkbanksportscomplex.com/wp-content/uploads/2024/02/TBK-Bank-Sports-Complex-Flyers-4.jpg
ORGANIZER;CN="TBK Bank Sports Complex":MAILTO:leagues@tbkbanksportscomplex.com
END:VEVENT
BEGIN:VEVENT
DTSTART;VALUE=DATE:20240719
DTEND;VALUE=DATE:20240722
DTSTAMP:20260421T000621
CREATED:20231104T020755Z
LAST-MODIFIED:20231104T020755Z
UID:10002175-1721347200-1721606399@www.tbkbanksportscomplex.com
SUMMARY:Summer Turf Fest (Fastpitch)
DESCRIPTION:The Summer Turf Fest is a must attend event for all teams looking to play on 100% Turf Fields. This 4 game guarantee is a great way to play a weekend of softballl at the incredible TBK Bank Sports Complex. \n  \n\n\n\n\n\n\n\n\nWHEN\nJul 19 – Jul 21\n\n\nWHERE\nTBK Bank Sports Complex – IA\n\n\n\n\nDIVISION                             COST \n10u USSSA-C                           $600\n10u USSSA-B                           $600\n12u USSSA-B                           $600\n12u USSSA-C                           $600\n14u USSSA-C                           $600\n14u USSSA-B                           $600\n16u USSSA-C                           $600\n16u USSSA-B                           $600\n18u USSSA-C                           $600\n18u USSSA-B                           $600
URL:https://www.tbkbanksportscomplex.com/event/summer-turf-fest-fastpitch/
LOCATION:TBK Bank Sports Complex\, 4850 Competition Drive\, Bettendorf\, IA\, 52722\, United States
CATEGORIES:Softball Tournaments
ATTACH;FMTTYPE=image/png:https://www.tbkbanksportscomplex.com/wp-content/uploads/2023/11/summer-turf-fest-bettendorf-07-19-2024-1698946510-2.png
END:VEVENT
BEGIN:VEVENT
DTSTART;VALUE=DATE:20240719
DTEND;VALUE=DATE:20240722
DTSTAMP:20260421T000621
CREATED:20240131T230728Z
LAST-MODIFIED:20240131T230728Z
UID:10002219-1721347200-1721606399@www.tbkbanksportscomplex.com
SUMMARY:Summer Turf Fest
DESCRIPTION:WHEN\nJul 19 – Jul 21\n\n\nWHERE\nTBK Bank Sports Complex – IA\n\n\n\n\nDIVISION \n11u USSSA – Open\n11u USSSA – AA\n12u USSSA – Open\n12u USSSA – AA\n15u Open\n16u Open \n\n\n\nCOST \n$ 575\n$ 575\n$ 575\n$ 575\n$ 720\n$ 720
URL:https://www.tbkbanksportscomplex.com/event/summer-turf-fest-2/
LOCATION:TBK Bank Sports Complex\, 4850 Competition Drive\, Bettendorf\, IA\, 52722\, United States
CATEGORIES:Baseball,Baseball Tournaments
ATTACH;FMTTYPE=image/png:https://www.tbkbanksportscomplex.com/wp-content/uploads/2024/01/summer-turf-fest.png
END:VEVENT
BEGIN:VEVENT
DTSTART;VALUE=DATE:20240726
DTEND;VALUE=DATE:20240729
DTSTAMP:20260421T000621
CREATED:20240131T230945Z
LAST-MODIFIED:20240131T230945Z
UID:10002220-1721952000-1722211199@www.tbkbanksportscomplex.com
SUMMARY:End of Summer Showdown
DESCRIPTION:WHEN\nJul 26 – Jul 28\n\n\nWHERE\nTBK Bank Sports Complex – IA\n\n\n\n\nDIVISION \n13u USSSA – Open\n13u USSSA – AA\n14u USSSA – Open\n14u USSSA – AA\n15u Open\n16u Open\n17U USSSA – Open \n\n\n\nCOST \n$ 575\n$ 575\n$ 575\n$ 575\n$ 720\n$ 720\n$ 720
URL:https://www.tbkbanksportscomplex.com/event/end-of-summer-showdown/
LOCATION:TBK Bank Sports Complex\, 4850 Competition Drive\, Bettendorf\, IA\, 52722\, United States
CATEGORIES:Baseball,Baseball Tournaments
ATTACH;FMTTYPE=image/png:https://www.tbkbanksportscomplex.com/wp-content/uploads/2024/01/summer-turf-fest.png
END:VEVENT
END:VCALENDAR