BEGIN:VCALENDAR
VERSION:2.0
PRODID:-//TBK Bank Sports Complex &amp; Entertainment - ECPv6.15.20//NONSGML v1.0//EN
CALSCALE:GREGORIAN
METHOD:PUBLISH
X-ORIGINAL-URL:https://www.tbkbanksportscomplex.com
X-WR-CALDESC:Events for TBK Bank Sports Complex &amp; Entertainment
REFRESH-INTERVAL;VALUE=DURATION:PT1H
X-Robots-Tag:noindex
X-PUBLISHED-TTL:PT1H
BEGIN:VTIMEZONE
TZID:America/Chicago
BEGIN:DAYLIGHT
TZOFFSETFROM:-0600
TZOFFSETTO:-0500
TZNAME:CDT
DTSTART:20230312T080000
END:DAYLIGHT
BEGIN:STANDARD
TZOFFSETFROM:-0500
TZOFFSETTO:-0600
TZNAME:CST
DTSTART:20231105T070000
END:STANDARD
BEGIN:DAYLIGHT
TZOFFSETFROM:-0600
TZOFFSETTO:-0500
TZNAME:CDT
DTSTART:20240310T080000
END:DAYLIGHT
BEGIN:STANDARD
TZOFFSETFROM:-0500
TZOFFSETTO:-0600
TZNAME:CST
DTSTART:20241103T070000
END:STANDARD
BEGIN:DAYLIGHT
TZOFFSETFROM:-0600
TZOFFSETTO:-0500
TZNAME:CDT
DTSTART:20250309T080000
END:DAYLIGHT
BEGIN:STANDARD
TZOFFSETFROM:-0500
TZOFFSETTO:-0600
TZNAME:CST
DTSTART:20251102T070000
END:STANDARD
END:VTIMEZONE
BEGIN:VEVENT
DTSTART;VALUE=DATE:20240928
DTEND;VALUE=DATE:20240930
DTSTAMP:20260420T222628
CREATED:20240910T194635Z
LAST-MODIFIED:20240910T194635Z
UID:10002239-1727481600-1727654399@www.tbkbanksportscomplex.com
SUMMARY:Prep Baseball Upper Midwest Wood Bat Exposure
DESCRIPTION:Date: October 26-27\, 2024 \n  \nThe Super Select is an open event taking place at The Bett Plex in Bettendorf\, Iowa\, as well as college and other outside fields.  \nNO Metals  \nNO Gum or Seeds. \n  \nGame format \nAge Group: 15u-16u-18u \nGame Guarantee: 4  \nBat Type: Wood \nHome/Away: Pre-determined  \nBalls Provided: Yes  \nTurf Fields \nNo coolers allowed inside complex  \nPitching Rules: MLB Pitchsmart Guidlines  \nGame Time Limits: 7 innings\, 1 hr 45 min finish the inning  \nThis event is scouted  \n  \nREGISTRATION AND FEE \nPrice 15u-18u: $1095  \nGate Fee: Team Gate Fee of $200 will be added at checkout. 
URL:https://www.tbkbanksportscomplex.com/event/prep-baseball-upper-midwest-wood-bat-exposure/
LOCATION:TBK Bank Sports Complex\, 4850 Competition Drive\, Bettendorf\, IA\, 52722\, United States
CATEGORIES:Baseball,Baseball Tournaments
ATTACH;FMTTYPE=image/png:https://www.tbkbanksportscomplex.com/wp-content/uploads/2024/09/pbr-upper-midwest-wood-bat-exposure-2024-09-28-65a967ca62e7f.png
END:VEVENT
BEGIN:VEVENT
DTSTART;VALUE=DATE:20241005
DTEND;VALUE=DATE:20241006
DTSTAMP:20260420T222628
CREATED:20240910T175641Z
LAST-MODIFIED:20240918T232341Z
UID:10002228-1728086400-1728172799@www.tbkbanksportscomplex.com
SUMMARY:2024  Meanstreets Iowa Skills Camp
DESCRIPTION:Meanstreets Basketball is a Nike Grassroots Basketball Program. Meanstreet Basketball has a long-established history as a premier program in the country. Meanstreets offers a variety of programs for developmental basketball. Including teams for the Nike EYBL\, Nike EYBL Champion League\, National Teams\, and Regional Teams. \n\n\n\n\n\n\nThis camp is open to players from ages 10u-17u (Classes of 2033-2026). Each player will participate in skills-building drills and competitive game action. In addition to the workout\, players will be evaluated for invitation to EYBL and Jr. EYBL  Fall Team Workouts \n\n\n\n\n\nMeanStreets Iowa Skills Camp\n\n\nThis registration session will allow you to complete contact information\, sign up for participation\, and submit payment. \nPlease read through each page carefully to ensure that all information is provided accurately. \nTo complete registration through our secure site\, please have your Visa or MasterCard information available. \n\n\n\nDates & Times\nLocation:\nTBK Bank Sports Complex\n4850 Competition Dr. Bettendorf \, IA 52722 \n\nTime:\nOct 5th\n4th-7th grade | 10am-12pm\n8th- 11th grade | 1pm – 3pm \n\nQuestions\nPlease direct questions to:  Josh@meanstreetsnational.com
URL:https://www.tbkbanksportscomplex.com/event/2024-meanstreets-iowa-skills-camp/
LOCATION:TBK Bank Sports Complex\, 4850 Competition Drive\, Bettendorf\, IA\, 52722\, United States
CATEGORIES:Basketball,Basketball Camps,Camps
ATTACH;FMTTYPE=image/png:https://www.tbkbanksportscomplex.com/wp-content/uploads/2024/09/basketball-training-meanstreets-academy_large.png
END:VEVENT
BEGIN:VEVENT
DTSTART;VALUE=DATE:20241005
DTEND;VALUE=DATE:20241006
DTSTAMP:20260420T222628
CREATED:20240910T195318Z
LAST-MODIFIED:20240910T195830Z
UID:10002240-1728086400-1728172799@www.tbkbanksportscomplex.com
SUMMARY:Fuji BJJ Quad Cities Open
DESCRIPTION:Tournament Details \nDivisions for any age\, weight\, skill level\, as well as GI and NOGI division \nDate: 10/5/24 \nVenue: TBK Bank Sports Complex \nFormat: Depending on the bracket size we offer best of three\, round robin\, and modified double elimination brackets to ensure everyone gets more than one match. \nAge Standards: Age 4 and Up \nAll States Welcome! \nSpectator Fee  \nAll spectators over the age of 12 years old must have a spectator pass. Passes may be purchased at the door upon entry of the venue. \n\nSpectator Fee: $20\n\nEach academy may designate up to 2 coaches who receive spectator passes at no cost. The academy must have competitors registered for this particular event and the passes must be approved by the event director. \nRegistration and Fees\nEarly bird registration: Nov 19- Aug 24 11:59pm\nNormal registration Aug 24- Sep 21\nLate registration: Sep 21- Oct 01\nEvent starts: Oct 05 \nKids Gi Kids Division- Athletes 17 Years Old & Under: $100\nKids Gi Absolute Kids Division- Athletes 17 Years Old & Under: $100\nKids NOGi Kids Division- Athletes 17 Years Old & Under: $100\nKids NOGi Absolute Kids Division- Athletes 17 Years & Under: $100\nAdult Black Belt GI- Black Belt Athletes Aged 18 & up: $100\nAdult GI Black Belt Absolute- Black Belt Athletes Aged 18 & Up: $100\nAdult GI- Athletes Aged 18 & Up: $100\nAdult GI Absolute- Athletes Aged 18 & Up: $100\nAdult NOGI- Athletes 18 & Up: $100\nAdult NOGI Absolute- Athletes Aged 18 & Up: $100
URL:https://www.tbkbanksportscomplex.com/event/fuji-bjj-quad-cities-open/
LOCATION:TBK Bank Sports Complex\, 4850 Competition Drive\, Bettendorf\, IA\, 52722\, United States
CATEGORIES:Other Sports
ATTACH;FMTTYPE=image/jpeg:https://www.tbkbanksportscomplex.com/wp-content/uploads/2024/09/FujiBJJ.jpg
ORGANIZER;CN="Fuji BJJ":MAILTO:info@fujibjj.com
END:VEVENT
END:VCALENDAR