BEGIN:VCALENDAR
VERSION:2.0
PRODID:-//TBK Bank Sports Complex &amp; Entertainment - ECPv6.15.20//NONSGML v1.0//EN
CALSCALE:GREGORIAN
METHOD:PUBLISH
X-WR-CALNAME:TBK Bank Sports Complex &amp; Entertainment
X-ORIGINAL-URL:https://www.tbkbanksportscomplex.com
X-WR-CALDESC:Events for TBK Bank Sports Complex &amp; Entertainment
REFRESH-INTERVAL;VALUE=DURATION:PT1H
X-Robots-Tag:noindex
X-PUBLISHED-TTL:PT1H
BEGIN:VTIMEZONE
TZID:America/Chicago
BEGIN:DAYLIGHT
TZOFFSETFROM:-0600
TZOFFSETTO:-0500
TZNAME:CDT
DTSTART:20230312T080000
END:DAYLIGHT
BEGIN:STANDARD
TZOFFSETFROM:-0500
TZOFFSETTO:-0600
TZNAME:CST
DTSTART:20231105T070000
END:STANDARD
BEGIN:DAYLIGHT
TZOFFSETFROM:-0600
TZOFFSETTO:-0500
TZNAME:CDT
DTSTART:20240310T080000
END:DAYLIGHT
BEGIN:STANDARD
TZOFFSETFROM:-0500
TZOFFSETTO:-0600
TZNAME:CST
DTSTART:20241103T070000
END:STANDARD
BEGIN:DAYLIGHT
TZOFFSETFROM:-0600
TZOFFSETTO:-0500
TZNAME:CDT
DTSTART:20250309T080000
END:DAYLIGHT
BEGIN:STANDARD
TZOFFSETFROM:-0500
TZOFFSETTO:-0600
TZNAME:CST
DTSTART:20251102T070000
END:STANDARD
END:VTIMEZONE
BEGIN:VEVENT
DTSTART;VALUE=DATE:20241027
DTEND;VALUE=DATE:20241104
DTSTAMP:20260420T191520
CREATED:20240930T222824Z
LAST-MODIFIED:20240930T222824Z
UID:10002276-1729987200-1730678399@www.tbkbanksportscomplex.com
SUMMARY:Platform Elite 2024-2025 Fall Tryouts
DESCRIPTION:10u-12u: Sunday\, October 27th: 5-7 PM (Check in at 4:30 PM) \n13u: Monday\, October 28th: 6-8 PM (Check in at 5:30 PM) \n14u: Wednesday\, October 30th: 6-8PM (Check in at 5:30 PM) \n15u: Sunday\, November 3rd: 9-11:30 AM (Check in at 8:30 AM) \n16u: Sunday\, November 3rd\, 2:30-5PM (Check in at 2:00 PM) \n17u-18u: Sunday\, November 3rd\, 2:30-5PM (Check in at 2:00 PM) \n  \n 
URL:https://www.tbkbanksportscomplex.com/event/platform-elite-2024-2025-fall-tryouts/
LOCATION:TBK Bank Sports Complex\, 4850 Competition Drive\, Bettendorf\, IA\, 52722\, United States
CATEGORIES:Volleyball
ATTACH;FMTTYPE=image/jpeg:https://www.tbkbanksportscomplex.com/wp-content/uploads/2024/09/Platform-Tryouts.jpeg
ORGANIZER;CN="Platform Elite Volleyball":MAILTO:info@platformelite.com
END:VEVENT
BEGIN:VEVENT
DTSTART;VALUE=DATE:20241101
DTEND;VALUE=DATE:20241104
DTSTAMP:20260420T191520
CREATED:20240910T184426Z
LAST-MODIFIED:20240910T190203Z
UID:10002232-1730419200-1730678399@www.tbkbanksportscomplex.com
SUMMARY:Champions Cup Tournament
DESCRIPTION:Tournament information link-  \nhttps://www.pldsports.org/winter-showcase-boys \n  \nGame format \n8U 4v4\, 9U-10U 7v7\, 11U-12U 9v9\, 13U-19U 11v11  \n3 Game Guarantee \nChampions Crowned 11U & Older  \n  \nREGISTRATION AND FEE \nRegistration Deadline – October 10 \nCost: \n8U $400\n9U/10U $600\n11U/12U $695\n13U-19U $775 \n  \nContact information \nTel: 563-223-8062\nInfo@pldsports.org 
URL:https://www.tbkbanksportscomplex.com/event/champions-cup-tournament/
LOCATION:TBK Bank Sports Complex\, 4850 Competition Drive\, Bettendorf\, IA\, 52722\, United States
CATEGORIES:Soccer,Soccer Tournaments
ATTACH;FMTTYPE=image/webp:https://www.tbkbanksportscomplex.com/wp-content/uploads/2024/09/champions-cup.webp
ORGANIZER;CN="PLD Sports":MAILTO:info@pldsports.org
END:VEVENT
BEGIN:VEVENT
DTSTART;VALUE=DATE:20241103
DTEND;VALUE=DATE:20241104
DTSTAMP:20260420T191520
CREATED:20240912T174757Z
LAST-MODIFIED:20240912T174757Z
UID:10002247-1730592000-1730678399@www.tbkbanksportscomplex.com
SUMMARY:JPSports Bracket Buster 3
DESCRIPTION:The Softball Bracket Buster Events are 1 Day Events that are 3 game guarantee straight bracket play events.  Each age will be completed in a 8 hour window. The indoor events will sell out quickly. \nTBK Bank Sports Complex:  \n2 full synthetic turf fields indoors.  TBK Bank Sports Complex is also home to an indoor family entertainment center featuring a restaurant\, bar\, bowling\, arcades\, laser tag\, golf simulator\, and escape rooms all on-site.  TBK is a must play facility for the 2024 season and is always rated as a top facility for youth softball year in and year out! \nThis tournament will be governed by USSSA Rules and Rostering\, along with JP Sports.  \nYou MUST Register through USSSA AND JP Sports .   By registering for this tournament you agree and understand your team must be sanctioned and have your USSSA roster completed.  \nNO METAL SPIKES OR SUNFLOWER SEEDS AT TBK \nDate: 11/03/2024\nGame Guarantee: 3 Games\nTournament Format: Straight Bracket Play. Win you move right on the bracket\, lose you move left on the bracket.\nExpected Number of Teams: 8\nStart Times: 5 PM Friday night\nParking is FREE!\nTBK: 4850 Competition Drive\, Bettendorf\, Iowa 52722\nThe event is for the following ages:\n10u Open – 40/60\n16u Open – 43/60\nCost: $400 \nHotels: \n*Teams traveling for this event MUST book their hotels through our housing partner\, Plex Travel.  This event is a Stay-to-Play event.  Once you have registered we recommend securing your hotel rooms right away.  The Plex Travel Hotel Link
URL:https://www.tbkbanksportscomplex.com/event/jpsports-bracket-buster-3-2/
LOCATION:TBK Bank Sports Complex\, 4850 Competition Drive\, Bettendorf\, IA\, 52722\, United States
CATEGORIES:Softball,Softball Tournaments
ATTACH;FMTTYPE=image/png:https://www.tbkbanksportscomplex.com/wp-content/uploads/2023/10/softball-bracket-buster-3.png
END:VEVENT
BEGIN:VEVENT
DTSTART;VALUE=DATE:20241108
DTEND;VALUE=DATE:20241109
DTSTAMP:20260420T191520
CREATED:20240912T175116Z
LAST-MODIFIED:20240912T175116Z
UID:10002248-1731024000-1731110399@www.tbkbanksportscomplex.com
SUMMARY:JPSports Bracket Buster 4
DESCRIPTION:The Softball Bracket Buster Events are 1 Day Events that are 3 game guarantee straight bracket play events.  Each age will be completed in a 8 hour window. The indoor events will sell out quickly. \nTBK Bank Sports Complex:  \n2 full synthetic turf fields indoors.  TBK Bank Sports Complex is also home to an indoor family entertainment center featuring a restaurant\, bar\, bowling\, arcades\, laser tag\, golf simulator\, and escape rooms all on-site.  TBK is a must play facility for the 2024 season and is always rated as a top facility for youth softball year in and year out! \nThis tournament will be governed by USSSA Rules and Rostering\, along with JP Sports.  \nYou MUST Register through USSSA AND JP Sports .   By registering for this tournament you agree and understand your team must be sanctioned and have your USSSA roster completed.  \nNO METAL SPIKES OR SUNFLOWER SEEDS AT TBK \nDate: 11/08/2024\nGame Guarantee: 3 Games\nTournament Format: Straight Bracket Play. Win you move right on the bracket\, lose you move left on the bracket.\nExpected Number of Teams: 8\nStart Times: 5 PM Friday night\nParking is FREE!\nTBK: 4850 Competition Drive\, Bettendorf\, Iowa 52722\nThe event is for the following ages:\n10u Open – 40/60\nCost: $400 \nHotels: \n*Teams traveling for this event MUST book their hotels through our housing partner\, Plex Travel.  This event is a Stay-to-Play event.  Once you have registered we recommend securing your hotel rooms right away.  The Plex Travel Hotel Link
URL:https://www.tbkbanksportscomplex.com/event/jpsports-bracket-buster-4-2/
LOCATION:TBK Bank Sports Complex\, 4850 Competition Drive\, Bettendorf\, IA\, 52722\, United States
CATEGORIES:Softball,Softball Tournaments
ATTACH;FMTTYPE=image/png:https://www.tbkbanksportscomplex.com/wp-content/uploads/2023/10/softball-bracket-buster-4.png
END:VEVENT
BEGIN:VEVENT
DTSTART;VALUE=DATE:20241109
DTEND;VALUE=DATE:20241110
DTSTAMP:20260420T191520
CREATED:20240912T175434Z
LAST-MODIFIED:20240912T175434Z
UID:10002249-1731110400-1731196799@www.tbkbanksportscomplex.com
SUMMARY:JPSports Bracket Buster 5
DESCRIPTION:The Softball Bracket Buster Events are 1 Day Events that are 3 game guarantee straight bracket play events.  Each age will be completed in a 8 hour window. The indoor events will sell out quickly. \nTBK Bank Sports Complex:  \n2 full synthetic turf fields indoors.  TBK Bank Sports Complex is also home to an indoor family entertainment center featuring a restaurant\, bar\, bowling\, arcades\, laser tag\, golf simulator\, and escape rooms all on-site.  TBK is a must play facility for the 2024 season and is always rated as a top facility for youth softball year in and year out! \nThis tournament will be governed by USSSA Rules and Rostering\, along with JP Sports.  \nYou MUST Register through USSSA AND JP Sports .   By registering for this tournament you agree and understand your team must be sanctioned and have your USSSA roster completed.  \nNO METAL SPIKES OR SUNFLOWER SEEDS AT TBK \nDate: 11/09/2024\nGame Guarantee: 3 Games\nTournament Format: Straight Bracket Play. Win you move right on the bracket\, lose you move left on the bracket.\nExpected Number of Teams: 8\nStart Times: 5 PM Friday night\nParking is FREE!\nTBK: 4850 Competition Drive\, Bettendorf\, Iowa 52722\nThe event is for the following ages:\n12u Open – 40/60\n16u Open – 43/60\nCost: $400 \nHotels: \n*Teams traveling for this event MUST book their hotels through our housing partner\, Plex Travel.  This event is a Stay-to-Play event.  Once you have registered we recommend securing your hotel rooms right away.  The Plex Travel Hotel Link
URL:https://www.tbkbanksportscomplex.com/event/jpsports-bracket-buster-5-2/
LOCATION:TBK Bank Sports Complex\, 4850 Competition Drive\, Bettendorf\, IA\, 52722\, United States
CATEGORIES:Softball,Softball Tournaments
ATTACH;FMTTYPE=image/png:https://www.tbkbanksportscomplex.com/wp-content/uploads/2023/10/softball-bracket-buster-5.png
END:VEVENT
BEGIN:VEVENT
DTSTART;VALUE=DATE:20241109
DTEND;VALUE=DATE:20241111
DTSTAMP:20260420T191520
CREATED:20240910T173435Z
LAST-MODIFIED:20240910T173435Z
UID:10002225-1731110400-1731283199@www.tbkbanksportscomplex.com
SUMMARY:Fall Finale
DESCRIPTION:November 9th – November 10th\, 2024\nDivisions: Boys and Girls\, 3rd – 8th grade\n\nTwo-Day Tournament\nMinimum 3 Game Guarantee\nBracket-play tournament style to name a divisional champ\nChampionship award/shirt to each divisional champ\nSocial media highlights and shout outs on gametimetourneys social media accounts\nTourney Machine for Scheduling\n$250/team\nMulti-team discounts are available for 3+ teams! Contact director@gametimetourneys.com\n\nQuestions: director@gametimetourneys.com
URL:https://www.tbkbanksportscomplex.com/event/fall-finale/
LOCATION:TBK Bank Sports Complex\, 4850 Competition Drive\, Bettendorf\, IA\, 52722\, United States
CATEGORIES:Basketball,Basketball Tournaments
ATTACH;FMTTYPE=image/png:https://www.tbkbanksportscomplex.com/wp-content/uploads/2024/09/24Fall-Finale.png
ORGANIZER;CN="Gametime Tourneys":MAILTO:director@gametimetourneys.com
END:VEVENT
END:VCALENDAR