BEGIN:VCALENDAR
VERSION:2.0
PRODID:-//TBK Bank Sports Complex &amp; Entertainment - ECPv6.15.20//NONSGML v1.0//EN
CALSCALE:GREGORIAN
METHOD:PUBLISH
X-ORIGINAL-URL:https://www.tbkbanksportscomplex.com
X-WR-CALDESC:Events for TBK Bank Sports Complex &amp; Entertainment
REFRESH-INTERVAL;VALUE=DURATION:PT1H
X-Robots-Tag:noindex
X-PUBLISHED-TTL:PT1H
BEGIN:VTIMEZONE
TZID:America/Chicago
BEGIN:DAYLIGHT
TZOFFSETFROM:-0600
TZOFFSETTO:-0500
TZNAME:CDT
DTSTART:20230312T080000
END:DAYLIGHT
BEGIN:STANDARD
TZOFFSETFROM:-0500
TZOFFSETTO:-0600
TZNAME:CST
DTSTART:20231105T070000
END:STANDARD
BEGIN:DAYLIGHT
TZOFFSETFROM:-0600
TZOFFSETTO:-0500
TZNAME:CDT
DTSTART:20240310T080000
END:DAYLIGHT
BEGIN:STANDARD
TZOFFSETFROM:-0500
TZOFFSETTO:-0600
TZNAME:CST
DTSTART:20241103T070000
END:STANDARD
BEGIN:DAYLIGHT
TZOFFSETFROM:-0600
TZOFFSETTO:-0500
TZNAME:CDT
DTSTART:20250309T080000
END:DAYLIGHT
BEGIN:STANDARD
TZOFFSETFROM:-0500
TZOFFSETTO:-0600
TZNAME:CST
DTSTART:20251102T070000
END:STANDARD
END:VTIMEZONE
BEGIN:VEVENT
DTSTART;VALUE=DATE:20241213
DTEND;VALUE=DATE:20241216
DTSTAMP:20260420T191719
CREATED:20240916T182220Z
LAST-MODIFIED:20240916T182220Z
UID:10002263-1734048000-1734307199@www.tbkbanksportscomplex.com
SUMMARY:JPSports Winter Classic
DESCRIPTION:The Winter Classic will be a huge hit for the 2025 Indoor season!  This event is a USSSA sanctioned for All Ages and is a State and World Series Qualifier. \nTBK Bank Sports Complex:  \nWith a total of 12 turf diamonds:  10 full synthetic turf fields with lights outdoors and 2 full synthetic turf fields indoors.  TBK Bank Sports Complex is also home to an indoor family entertainment center featuring a restaurant\, bar\, bowling\, arcades\, laser tag\, golf simulator\, and escape rooms all on-site.  TBK is a must play facility for the 2025 season and is always rated as a top facility for youth softball year in and year out! \nNO METAL SPIKES OR SUNFLOWER SEEDS AT TBK \nDate: 12/13/24-12/15/24\nGame Guarantee: 3 Games\nTournament Format: Each team will play 2 pool play games\, followed by bracket play.\nExpected Number of Teams: 24\nExpected Start Times: 5 PM Friday\nParking is FREE!\nTBK: 4850 Competition Drive\, Bettendorf\, Iowa 52722\nThe event is for the following ages:\n9u and 10u-46/65\n11u and 12u- 50/70\nCost:\n$525 \nHotels:\n*Teams traveling for this event MUST book their hotels through our housing partner\, Plex Travel.  This event is a Stay-to-Play event.  Once you have registered we recommend securing your hotel rooms right away.  The Plex Travel Hotel Link
URL:https://www.tbkbanksportscomplex.com/event/jpsports-winter-classic/
LOCATION:TBK Bank Sports Complex\, 4850 Competition Drive\, Bettendorf\, IA\, 52722\, United States
CATEGORIES:Baseball,Baseball Tournaments
ATTACH;FMTTYPE=image/png:https://www.tbkbanksportscomplex.com/wp-content/uploads/2023/11/jp-sports-winter-classic-indoor-bettendorf-ia-12-09-2022-1691513210-1.png
END:VEVENT
BEGIN:VEVENT
DTSTART;VALUE=DATE:20241220
DTEND;VALUE=DATE:20241223
DTSTAMP:20260420T191719
CREATED:20240910T185659Z
LAST-MODIFIED:20240910T190300Z
UID:10002233-1734652800-1734911999@www.tbkbanksportscomplex.com
SUMMARY:Super Sixes Holiday Havoc
DESCRIPTION:Tournament information link-  \nhttps://www.pldsports.org/super-sixes-holiday-havoc \n  \n\n\n\n\n\n\nDec 20 Adult Men and Women \nDec 21 11U-19U & Adult Coed Division  \nDec 22 8U-10U boy/girl   & 11U-19U girls \n  \nPLAYING FORMAT \n6v6 incl gk \n40 minute games \nAll games in one day \n(Potential 11U-19U Boys Friday games with permission) \nChampions Crowned 11U-Adult \n  \nREGISTRATION AND FEE \n  \nTeam Fee \n8U-10U $475 \n11U-14U $495\n15U-19U $515\nAdult $535 \n  \nContact information \nTel: 563-223-8062\nInfo@pldsports.org  \n  \n\n\n 
URL:https://www.tbkbanksportscomplex.com/event/super-sixes-holiday-havoc-2/
LOCATION:TBK Bank Sports Complex\, 4850 Competition Drive\, Bettendorf\, IA\, 52722\, United States
CATEGORIES:Soccer,Soccer Tournaments
ATTACH;FMTTYPE=image/webp:https://www.tbkbanksportscomplex.com/wp-content/uploads/2024/09/Super-sixes.webp
ORGANIZER;CN="PLD Sports":MAILTO:info@pldsports.org
END:VEVENT
END:VCALENDAR