BEGIN:VCALENDAR
VERSION:2.0
PRODID:-//TBK Bank Sports Complex &amp; Entertainment - ECPv6.15.20//NONSGML v1.0//EN
CALSCALE:GREGORIAN
METHOD:PUBLISH
X-WR-CALNAME:TBK Bank Sports Complex &amp; Entertainment
X-ORIGINAL-URL:https://www.tbkbanksportscomplex.com
X-WR-CALDESC:Events for TBK Bank Sports Complex &amp; Entertainment
REFRESH-INTERVAL;VALUE=DURATION:PT1H
X-Robots-Tag:noindex
X-PUBLISHED-TTL:PT1H
BEGIN:VTIMEZONE
TZID:America/Chicago
BEGIN:DAYLIGHT
TZOFFSETFROM:-0600
TZOFFSETTO:-0500
TZNAME:CDT
DTSTART:20240310T080000
END:DAYLIGHT
BEGIN:STANDARD
TZOFFSETFROM:-0500
TZOFFSETTO:-0600
TZNAME:CST
DTSTART:20241103T070000
END:STANDARD
BEGIN:DAYLIGHT
TZOFFSETFROM:-0600
TZOFFSETTO:-0500
TZNAME:CDT
DTSTART:20250309T080000
END:DAYLIGHT
BEGIN:STANDARD
TZOFFSETFROM:-0500
TZOFFSETTO:-0600
TZNAME:CST
DTSTART:20251102T070000
END:STANDARD
BEGIN:DAYLIGHT
TZOFFSETFROM:-0600
TZOFFSETTO:-0500
TZNAME:CDT
DTSTART:20260308T080000
END:DAYLIGHT
BEGIN:STANDARD
TZOFFSETFROM:-0500
TZOFFSETTO:-0600
TZNAME:CST
DTSTART:20261101T070000
END:STANDARD
END:VTIMEZONE
BEGIN:VEVENT
DTSTART;VALUE=DATE:20250711
DTEND;VALUE=DATE:20250714
DTSTAMP:20260420T174712
CREATED:20241027T185315Z
LAST-MODIFIED:20241027T185315Z
UID:10002299-1752192000-1752451199@www.tbkbanksportscomplex.com
SUMMARY:JP Sports Midwest Championships
DESCRIPTION:The JP Sports Midwest Championships is a must attend event for all teams looking to play. This 3 game guarantee is a great way to play a weekend of baseball at the incredible TBK Bank Sports Complex. Last year over 90 teams took part in this event. This will be a great way to get double the points.  This USSSA NIT is a State and World Series Qualifier\, that will earn your team NIT points!!!  Don’t miss your opportunity for an early season NIT on turf! \nTBK Bank Sports Complex:  \nWith a total of 14 turf diamonds:  10 full synthetic turf fields with lights outdoors and 4 full synthetic turf fields indoors. TBK Bank Sports Complex is also home to an indoor family entertainment center featuring a restaurant\, bar\, bowling\, arcades\, laser tag\, golf simulator\, and escape rooms all on-site.  TBK is a must play facility for the 2025 season and is always rated as a top facility for youth baseball year in and year out! \nHitmen Sports Complex: \n8 total dirt fields\, on site concessions. \nThis tournament will be governed by USSSA Rules and Rostering\, along with JP Sports.  \nYou MUST Register through USSSA AND JP Sports .   By registering for this tournament you agree and understand your team must be sanctioned and have your USSSA roster completed.  \nNO METAL SPIKES OR SUNFLOWER SEEDS AT TBK \nDate: 07/11/25-07/13/25\nGame Guarantee: 3 Games\nTournament Format: Each team will play 2 pool play games\, followed by bracket play.\nExpected Number of Teams: 90+\nExpected Start Times: Games will start Friday at 9AM.\nParking is FREE!\nTBK: 4850 Competition Drive\, Bettendorf\, Iowa 52722\nThe event is for the following ages:\n9u (Major/AAA/AA) – 46′ mound\, 65′ bases\n10u (Major/AAA/AA) – 46′ mound\, 65′ bases\n11u (Major/AAA/AA) – 50′ mound\, 70′ bases\n12u (Major/AAA/AA) – 50′ mound\, 70′ bases\n13u (Major/AAA/AA) – 54′ mound\, 80′ bases\n14u (Major/AAA/AA) – 60′ mound\, 90′ bases\n15u (Open) – 60′ mound\, 90′ bases\n16u (Open) – 60′ mound\, 90′ bases \nCost:\n8u-14u =$625\n15u-16u =$800 \nHotels:\n*Teams traveling for this event MUST book their hotels through our housing partner\, Plex Travel.  This event is a Stay-to-Play event.  Once you have registered we recommend securing your hotel rooms right away.  The Plex Travel Hotel Link \nJP Sports reserves the right to combine classes/divisions as necessary. \nJP Sports also has the right to add additional fields as needed.
URL:https://www.tbkbanksportscomplex.com/event/jp-sports-midwest-championships-2/
LOCATION:TBK Bank Sports Complex\, 4850 Competition Drive\, Bettendorf\, IA\, 52722\, United States
CATEGORIES:Baseball,Baseball Tournaments
ATTACH;FMTTYPE=image/png:https://www.tbkbanksportscomplex.com/wp-content/uploads/2024/01/midwest-championships.png
END:VEVENT
BEGIN:VEVENT
DTSTART;VALUE=DATE:20250711
DTEND;VALUE=DATE:20250714
DTSTAMP:20260420T174712
CREATED:20241027T194819Z
LAST-MODIFIED:20241027T194819Z
UID:10002304-1752192000-1752451199@www.tbkbanksportscomplex.com
SUMMARY:JP Sports Midwest Championships-Fastpitch
DESCRIPTION:The JP Sports Midwest Championships will be a huge hit for the 2025 Outdoor season!  This event is a USSSA sanctioned for All Ages and is a State and World Series Qualifier.  This event will sell out quickly. \nTBK Bank Sports Complex:\nWith a total of 14 turf diamonds:  10 full synthetic turf fields with lights outdoors and 4 full synthetic turf fields indoors.  TBK Bank Sports Complex is also home to an indoor family entertainment center featuring a restaurant\, bar\, bowling\, arcades\, laser tag\, golf simulator\, and escape rooms all on-site.  TBK is a must play facility for the 2022 season and is always rated as a top facility for youth softball year in and year out! \nThis tournament will be governed by USSSA Rules and Rostering\, along with JP Sports.  \nYou MUST Register through USSSA AND JP Sports .   By registering for this tournament you agree and understand your team must be sanctioned and have your USSSA roster completed.  \nNO METAL SPIKES OR SUNFLOWER SEEDS AT TBK \nDate: 07/11/25-07/13/25\nGame Guarantee: 5 Games\nTournament Format: Each team will play 3 pool play games\, followed by bracket play.\nExpected Number of Teams: 60+\nExpected Start Times: Games could start Thursday at 9 AM as needed!\nParking is FREE!\nTBK: 4850 Competition Drive\, Bettendorf\, Iowa 52722\nThe event is for the following ages:\n10u- 35/60\n12u- 40/60\n14u-18u- 43/60 \nCost:\n$700 \nHotels:\n*Teams traveling for this event MUST book their hotels through our housing partner\, Plex Travel.  This event is a Stay-to-Play event.  Once you have registered we recommend securing your hotel rooms right away.  The Plex Travel Hotel Link
URL:https://www.tbkbanksportscomplex.com/event/jp-sports-midwest-championships-fastpitch/
LOCATION:TBK Bank Sports Complex\, 4850 Competition Drive\, Bettendorf\, IA\, 52722\, United States
CATEGORIES:Softball,Softball Tournaments
ATTACH;FMTTYPE=image/png:https://www.tbkbanksportscomplex.com/wp-content/uploads/2023/01/jp-sports-midwest-championships-fastptich-bettendorf-ia-07-15-2022-1668631606.png
END:VEVENT
BEGIN:VEVENT
DTSTART;VALUE=DATE:20250718
DTEND;VALUE=DATE:20250721
DTSTAMP:20260420T174712
CREATED:20241027T185800Z
LAST-MODIFIED:20241027T185800Z
UID:10002300-1752796800-1753055999@www.tbkbanksportscomplex.com
SUMMARY:JP Sports Turf N' Lumbar Championships
DESCRIPTION:The Turf “N” Lumber Championships is a must attend event for all teams looking to play on 100% Turf Fields. THIS IS A WOOD BAT EVENT! This 3 game guarantee is a great way to play a weekend of baseball at the incredible TBK Bank Sports Complex. This will be a great way to get double the points on 100% turf fields\, almost guaranteeing your team gets games in!  This USSSA NIT is a State and World Series Qualifier\, that will earn your team NIT points!!!  Don’t miss your opportunity for an early season NIT on turf! \n9u-12u- are Metal Bat divisions for these ages. \n13u and up is strictly Wood bat. \nTBK Bank Sports Complex:  \nWith a total of 14 turf diamonds:  10 full synthetic turf fields with lights outdoors and 4 full synthetic turf fields indoors.  TBK Bank Sports Complex is also home to an indoor family entertainment center featuring a restaurant\, bar\, bowling\, arcades\, laser tag\, golf simulator\, and escape rooms all on-site.  TBK is a must play facility for the 2024 season and is always rated as a top facility for youth baseball year in and year out! \nThis tournament will be governed by USSSA Rules and Rostering\, along with JP Sports.  \nYou MUST Register through USSSA AND JP Sports .   By registering for this tournament you agree and understand your team must be sanctioned and have your USSSA roster completed.  \nNO METAL SPIKES OR SUNFLOWER SEEDS AT TBK \nDate: 07/18/25-07/20/25\nGame Guarantee: 3 Games\nTournament Format: Each team will play 2 pool play games\, followed by bracket play.\nExpected Number of Teams: 80+\nExpected Start Times: Games will start Friday at 9 AM if needed.\nParking is FREE!\nTBK: 4850 Competition Drive\, Bettendorf\, Iowa 52722\nThe event is for the following ages:\n9u (Major/AAA/AA) – 46′ mound\, 65′ bases\n10u (Major/AAA/AA) – 46′ mound\, 65′ bases\n11u (Major/AAA/AA) – 50′ mound\, 70′ bases\n12u (Major/AAA/AA) – 50′ mound\, 70′ bases\n13u (Major/AAA/AA) – 54′ mound\, 80′ bases\n14u (Major/AAA/AA) – 60′ mound\, 90′ bases\n15u (Open) – 60′ mound\, 90′ bases\n16u (Open) – 60′ mound\, 90′ bases \nCost:\n9u-14u = $625\n15u-16u =$800 \nHotels:\n*Teams traveling for this event MUST book their hotels through our housing partner\, Plex Travel.  This event is a Stay-to-Play event.  Once you have registered we recommend securing your hotel rooms right away.  The Plex Travel Hotel Link \nJP Sports reserves the right to combine classes/divisions as necessary. \nJP Sports also has the right to add additional fields as needed.
URL:https://www.tbkbanksportscomplex.com/event/jp-sports-turf-n-lumbar-championships/
LOCATION:TBK Bank Sports Complex\, 4850 Competition Drive\, Bettendorf\, IA\, 52722\, United States
CATEGORIES:Baseball,Baseball Tournaments
ATTACH;FMTTYPE=image/png:https://www.tbkbanksportscomplex.com/wp-content/uploads/2024/01/turf-n-lumber.png
END:VEVENT
BEGIN:VEVENT
DTSTART;VALUE=DATE:20250718
DTEND;VALUE=DATE:20250721
DTSTAMP:20260420T174712
CREATED:20241027T195217Z
LAST-MODIFIED:20241027T195217Z
UID:10002305-1752796800-1753055999@www.tbkbanksportscomplex.com
SUMMARY:JP Sports Summer Turf Fest (Fastpitch)
DESCRIPTION:The Summer Turf Fest is a must attend event for all teams looking to play on 100% Turf Fields. This 4 game guarantee is a great way to play a weekend of softball at the incredible TBK Bank Sports Complex. \nTBK Bank Sports Complex:\nWith a total of 14 turf diamonds:  10 full synthetic turf fields with lights outdoors and 4 full synthetic turf fields indoors.  TBK Bank Sports Complex is also home to an indoor family entertainment center featuring a restaurant\, bar\, bowling\, arcades\, laser tag\, golf simulator\, and escape rooms all on-site.  TBK is a must play facility for the 2025 season and is always rated as a top facility for youth baseball year in and year out! \nThis tournament will be governed by USSSA Rules and Rostering\, along with JP Sports.  \nYou MUST Register through USSSA AND JP Sports .   By registering for this tournament you agree and understand your team must be sanctioned and have your USSSA roster completed.  \nNO METAL SPIKES OR SUNFLOWER SEEDS AT TBK \nDate: 07/18/25-07/20/25\nGame Guarantee: 4 Games\nTournament Format: Each team will play 3 pool play games\, followed by bracket play.\nExpected Number of Teams: 50+\nExpected Start Times: Games will start Friday evening at 5pm\, if needed.\nParking is FREE!\nTBK: 4850 Competition Drive\, Bettendorf\, Iowa 52722\nThe event is for the following ages:\n10u-35/60\n12-40/60\n14u-18u- 43/60 \nCost:\n$600 \nHotels:\n*Teams traveling for this event MUST book their hotels through our housing partner\, Plex Travel.  This event is a Stay-to-Play event.  Once you have registered we recommend securing your hotel rooms right away.  The Plex Travel Hotel Link \nJP Sports reserves the right to combine classes/divisions as necessary.
URL:https://www.tbkbanksportscomplex.com/event/jp-sports-summer-turf-fest-fastpitch/
LOCATION:TBK Bank Sports Complex\, 4850 Competition Drive\, Bettendorf\, IA\, 52722\, United States
CATEGORIES:Softball,Softball Tournaments
ATTACH;FMTTYPE=image/png:https://www.tbkbanksportscomplex.com/wp-content/uploads/2024/01/summer-turf-fest.png
END:VEVENT
END:VCALENDAR