BEGIN:VCALENDAR
VERSION:2.0
PRODID:-//TBK Bank Sports Complex &amp; Entertainment - ECPv6.15.20//NONSGML v1.0//EN
CALSCALE:GREGORIAN
METHOD:PUBLISH
X-ORIGINAL-URL:https://www.tbkbanksportscomplex.com
X-WR-CALDESC:Events for TBK Bank Sports Complex &amp; Entertainment
REFRESH-INTERVAL;VALUE=DURATION:PT1H
X-Robots-Tag:noindex
X-PUBLISHED-TTL:PT1H
BEGIN:VTIMEZONE
TZID:America/Chicago
BEGIN:DAYLIGHT
TZOFFSETFROM:-0600
TZOFFSETTO:-0500
TZNAME:CDT
DTSTART:20250309T080000
END:DAYLIGHT
BEGIN:STANDARD
TZOFFSETFROM:-0500
TZOFFSETTO:-0600
TZNAME:CST
DTSTART:20251102T070000
END:STANDARD
BEGIN:DAYLIGHT
TZOFFSETFROM:-0600
TZOFFSETTO:-0500
TZNAME:CDT
DTSTART:20260308T080000
END:DAYLIGHT
BEGIN:STANDARD
TZOFFSETFROM:-0500
TZOFFSETTO:-0600
TZNAME:CST
DTSTART:20261101T070000
END:STANDARD
BEGIN:DAYLIGHT
TZOFFSETFROM:-0600
TZOFFSETTO:-0500
TZNAME:CDT
DTSTART:20270314T080000
END:DAYLIGHT
BEGIN:STANDARD
TZOFFSETFROM:-0500
TZOFFSETTO:-0600
TZNAME:CST
DTSTART:20271107T070000
END:STANDARD
END:VTIMEZONE
BEGIN:VEVENT
DTSTART;VALUE=DATE:20261120
DTEND;VALUE=DATE:20261123
DTSTAMP:20260420T151721
CREATED:20260414T160745Z
LAST-MODIFIED:20260414T160745Z
UID:10002403-1795132800-1795391999@www.tbkbanksportscomplex.com
SUMMARY:2026 Top Gun Indoor Showcase
DESCRIPTION:Unleash Your Potential: 2026 Top Gun Indoor Showcase\nGet ready for an electrifying softball experience at the 2026 Top Gun Indoor Showcase! This premier tournament brings together the nation’s top young talent for an unforgettable weekend of competition\, skill development\, and exposure. Hosted by Top Gun Events\, this showcase is your chance to shine on the big stage and take your game to the next level. \nElevate Your Game\, Ignite Your Future \nEvent Highlights\n\n4 guaranteed games\nRound Robin structure 80 minute time limit-drop dead.\n40-team capacity\nDivisions: 14u\, 16u\, 18u\nIndoor facility for weather-proof play\nStay to play\n\nPricing & Fees\n\nEntry fee: $895.00 per team\nGate Fees:\nChildren: $5.00\nAdults: $10.00\nSeniors: $5.00\nMilitary: $5.00\n\nStay to play\n\nThe Plex Travel is the local housing provider for the TBK Bank Sports Complex that is handling the stay to play for this event. Located in the Quad Cities\, they are the one-stop-shop for the best lodging rates at the closest hotels to the complex and can give firsthand recommendations for dining and things to do while in town.\n\nLink to book is coming soon! \nA hotel buyout is available. Please email info@topgunevents.com to purchase a buyout. \nPremier Venues\nTBK Bank Sports Complex \n\nState-of-the-art indoor facility\nPerfect for showcasing skills in a controlled environment\n\nForest Grove Sports Complex \nWhy You Can’t Miss This Tournament\n\nTop-tier competition from across the nation\nExposure to college recruiters and scouts\nOpportunity to play in a professional-grade indoor facility\nShowcase your skills regardless of weather conditions\nNetwork with other talented players and coaches\n\nImportant Dates\n\nApplication Deadline: October 30\, 2026\nPayment Deadline: November 6\, 2026\nTournament Dates: November 20-22\, 2026\n\nDon’t Miss Your Shot!\nApplications are now open for this exclusive tournament. With limited spots available\, act fast to secure your team’s place in this prestigious event. Don’t let this opportunity to elevate your game and gain valuable exposure pass you by! \nContact Us: info@topgunevents.com \nReady to take your game to the next level? Apply Now and be part of the 2026 Top Gun Indoor Showcase!
URL:https://www.tbkbanksportscomplex.com/event/2026-top-gun-indoor-showcase/
LOCATION:TBK Bank Sports Complex\, 4850 Competition Drive\, Bettendorf\, IA\, 52722\, United States
CATEGORIES:Softball,Softball Tournaments,Tournaments
ATTACH;FMTTYPE=image/png:https://www.tbkbanksportscomplex.com/wp-content/uploads/2026/04/Screenshot-2026-04-14-110253.png
END:VEVENT
END:VCALENDAR